BEGIN:VCALENDAR
VERSION:2.0
PRODID:-//Lavery&#039;s - ECPv6.15.18//NONSGML v1.0//EN
CALSCALE:GREGORIAN
METHOD:PUBLISH
X-WR-CALNAME:Lavery&#039;s
X-ORIGINAL-URL:https://laverys.com
X-WR-CALDESC:Events for Lavery&#039;s
REFRESH-INTERVAL;VALUE=DURATION:PT1H
X-Robots-Tag:noindex
X-PUBLISHED-TTL:PT1H
BEGIN:VTIMEZONE
TZID:UTC
BEGIN:STANDARD
TZOFFSETFROM:+0000
TZOFFSETTO:+0000
TZNAME:UTC
DTSTART:20240101T000000
END:STANDARD
END:VTIMEZONE
BEGIN:VEVENT
DTSTART;TZID=UTC:20250524T213000
DTEND;TZID=UTC:20250525T003000
DTSTAMP:20260420T011003
CREATED:20250127T164654Z
LAST-MODIFIED:20250127T164654Z
UID:10003704-1748122200-1748133000@laverys.com
SUMMARY:Adh Mor
DESCRIPTION:Adh Mor is truly one of `Northern Ireland’s most dynamic 2 piece bands.\nNot stuck to one genre\, Adh Mor perform a range of songs & tunes with an Irish Trad & Folk kick.
URL:https://laverys.com/event/adh-mor-3/2025-05-24/
LOCATION:Lavery’s\, 12-18 Bradbury Place\, Belfast\, Antrim\, BT71RS\, United Kingdom
CATEGORIES:Live at Lavery's
ATTACH;FMTTYPE=image/jpeg:https://laverys.com/wp-content/uploads/2024/10/Screenshot-2024-10-30-at-16.15.02-1-e1730915426146.jpg
ORGANIZER;CN="Lavery's":MAILTO:info@laverys.com
END:VEVENT
END:VCALENDAR