BEGIN:VCALENDAR
VERSION:2.0
PRODID:-//Lavery&#039;s - ECPv6.15.18//NONSGML v1.0//EN
CALSCALE:GREGORIAN
METHOD:PUBLISH
X-WR-CALNAME:Lavery&#039;s
X-ORIGINAL-URL:https://laverys.com
X-WR-CALDESC:Events for Lavery&#039;s
REFRESH-INTERVAL;VALUE=DURATION:PT1H
X-Robots-Tag:noindex
X-PUBLISHED-TTL:PT1H
BEGIN:VTIMEZONE
TZID:UTC
BEGIN:STANDARD
TZOFFSETFROM:+0000
TZOFFSETTO:+0000
TZNAME:UTC
DTSTART:20220101T000000
END:STANDARD
END:VTIMEZONE
BEGIN:VEVENT
DTSTART;TZID=UTC:20230306T200000
DTEND;TZID=UTC:20230306T233000
DTSTAMP:20260419T202536
CREATED:20230301T134808Z
LAST-MODIFIED:20230301T134808Z
UID:17248-1678132800-1678145400@laverys.com
SUMMARY:Belfast Groove Collective
DESCRIPTION:Join us for our first improvised jam session hosted by Belfast Groove Collective. Free entry and all are welcome to come and showcase their musical talents. We’ll be giving away free drinks to any musician willing to jam.
URL:https://laverys.com/event/belfast-groove-collective/
LOCATION:Tom’s\, 12-18 Bradbury Place\, Belfast\, Antrim\, BT71RS\, United Kingdom
ATTACH;FMTTYPE=image/png:https://laverys.com/wp-content/uploads/2023/03/6thmarch.png
ORGANIZER;CN="Lavery's":MAILTO:info@laverys.com
END:VEVENT
END:VCALENDAR