BEGIN:VCALENDAR
VERSION:2.0
PRODID:-//Lavery&#039;s - ECPv6.15.20//NONSGML v1.0//EN
CALSCALE:GREGORIAN
METHOD:PUBLISH
X-WR-CALNAME:Lavery&#039;s
X-ORIGINAL-URL:https://laverys.com
X-WR-CALDESC:Events for Lavery&#039;s
REFRESH-INTERVAL;VALUE=DURATION:PT1H
X-Robots-Tag:noindex
X-PUBLISHED-TTL:PT1H
BEGIN:VTIMEZONE
TZID:UTC
BEGIN:STANDARD
TZOFFSETFROM:+0000
TZOFFSETTO:+0000
TZNAME:UTC
DTSTART:20240101T000000
END:STANDARD
END:VTIMEZONE
BEGIN:VEVENT
DTSTART;TZID=UTC:20250412T210000
DTEND;TZID=UTC:20250413T011500
DTSTAMP:20260422T224707
CREATED:20250123T175517Z
LAST-MODIFIED:20250123T175517Z
UID:10003636-1744491600-1744506900@laverys.com
SUMMARY:Caoimhe
DESCRIPTION:Caoimhe blew up rapidly after winning the AVA Emerging DJ Competition\, since then she’s played their main stage multiple times and been showcased by Mixmag and HÖR. \n\nWith all of this experience\, the night is in capable hands with Caoimhe.
URL:https://laverys.com/event/caoimhe-2/2025-04-12/
LOCATION:Lavery’s\, 12-18 Bradbury Place\, Belfast\, Antrim\, BT71RS\, United Kingdom
CATEGORIES:DJ
ATTACH;FMTTYPE=image/jpeg:https://laverys.com/wp-content/uploads/2025/01/Screenshot-2025-01-16-at-14.50.23-e1737047149464.jpg
ORGANIZER;CN="Lavery's":MAILTO:info@laverys.com
END:VEVENT
END:VCALENDAR