BEGIN:VCALENDAR
VERSION:2.0
PRODID:-//Lavery&#039;s - ECPv6.15.18//NONSGML v1.0//EN
CALSCALE:GREGORIAN
METHOD:PUBLISH
X-WR-CALNAME:Lavery&#039;s
X-ORIGINAL-URL:https://laverys.com
X-WR-CALDESC:Events for Lavery&#039;s
REFRESH-INTERVAL;VALUE=DURATION:PT1H
X-Robots-Tag:noindex
X-PUBLISHED-TTL:PT1H
BEGIN:VTIMEZONE
TZID:UTC
BEGIN:STANDARD
TZOFFSETFROM:+0000
TZOFFSETTO:+0000
TZNAME:UTC
DTSTART:20220101T000000
END:STANDARD
END:VTIMEZONE
BEGIN:VEVENT
DTSTART;TZID=UTC:20230421T190000
DTEND;TZID=UTC:20230421T230000
DTSTAMP:20260420T083332
CREATED:20230321T112619Z
LAST-MODIFIED:20230321T130434Z
UID:17415-1682103600-1682118000@laverys.com
SUMMARY:Cherym
DESCRIPTION:Serving up a zingy\, fearless new recipe for pop punk rock\, Cherym are a three-piece from Derry in Northern Ireland with some seriously infectious songwriting credentials. Taking influence from The Smashing Pumpkins\, Bikini Kill\, American Football\, PUP and Pixies\, the trio formed after meeting in college over a joint love of garage rock\, pop punk and a desire to be the biggest band in the world.
URL:https://laverys.com/event/cherym-21st-april-2023/
LOCATION:Tom’s\, 12-18 Bradbury Place\, Belfast\, Antrim\, BT71RS\, United Kingdom
ATTACH;FMTTYPE=image/png:https://laverys.com/wp-content/uploads/2023/03/cherym.png
ORGANIZER;CN="Shine":MAILTO:info@shine.net
END:VEVENT
END:VCALENDAR