BEGIN:VCALENDAR
VERSION:2.0
PRODID:-//Lavery&#039;s - ECPv6.15.18//NONSGML v1.0//EN
CALSCALE:GREGORIAN
METHOD:PUBLISH
X-WR-CALNAME:Lavery&#039;s
X-ORIGINAL-URL:https://laverys.com
X-WR-CALDESC:Events for Lavery&#039;s
REFRESH-INTERVAL;VALUE=DURATION:PT1H
X-Robots-Tag:noindex
X-PUBLISHED-TTL:PT1H
BEGIN:VTIMEZONE
TZID:UTC
BEGIN:STANDARD
TZOFFSETFROM:+0000
TZOFFSETTO:+0000
TZNAME:UTC
DTSTART:20240101T000000
END:STANDARD
END:VTIMEZONE
BEGIN:VEVENT
DTSTART;TZID=UTC:20250503T213000
DTEND;TZID=UTC:20250504T003000
DTSTAMP:20260420T062824
CREATED:20250127T162332Z
LAST-MODIFIED:20250127T162332Z
UID:10003698-1746307800-1746318600@laverys.com
SUMMARY:Cipasso
DESCRIPTION:Cipasso is a multi-genre collective of artists that have a focus on funk\, soul\, funk and rock. Headed by the ever talented John Quinn\, Cipasso’s energetic sets take you on a journey you’ll not forget.
URL:https://laverys.com/event/cipasso-4/2025-05-03/
LOCATION:Lavery’s\, 12-18 Bradbury Place\, Belfast\, Antrim\, BT71RS\, United Kingdom
CATEGORIES:Live at Lavery's
ATTACH;FMTTYPE=image/jpeg:https://laverys.com/wp-content/uploads/2024/12/291A3855-copy-e1767708326152.jpg
ORGANIZER;CN="Lavery's":MAILTO:info@laverys.com
END:VEVENT
END:VCALENDAR