BEGIN:VCALENDAR
VERSION:2.0
PRODID:-//Lavery&#039;s - ECPv6.15.20//NONSGML v1.0//EN
CALSCALE:GREGORIAN
METHOD:PUBLISH
X-WR-CALNAME:Lavery&#039;s
X-ORIGINAL-URL:https://laverys.com
X-WR-CALDESC:Events for Lavery&#039;s
REFRESH-INTERVAL;VALUE=DURATION:PT1H
X-Robots-Tag:noindex
X-PUBLISHED-TTL:PT1H
BEGIN:VTIMEZONE
TZID:UTC
BEGIN:STANDARD
TZOFFSETFROM:+0000
TZOFFSETTO:+0000
TZNAME:UTC
DTSTART:20240101T000000
END:STANDARD
END:VTIMEZONE
BEGIN:VEVENT
DTSTART;TZID=UTC:20250510T143000
DTEND;TZID=UTC:20250510T230000
DTSTAMP:20260422T111446
CREATED:20250421T113722Z
LAST-MODIFIED:20250421T114717Z
UID:30369-1746887400-1746918000@laverys.com
SUMMARY:Crilli DNB + Friends Day Party
DESCRIPTION:Crilli is back at our favourite outdoor spot in the city – Laverys Shipyard Beer Garden – for our first Crilli DNB and Friends of 2025 on Saturday 10th of May! We have rounded up a whole gang of our favourite DJs and craft traders to make our first outing of the year a bumper one\, with music on in the Shipyard from 2.30pm and running throughout the day. If you’ve been to one of these all-dayers before you’ll know all about why we love these days at Laverys so much. Great people and great times in a fantastic setting. And totally free! Our trader market is almost full already but if you have some cool stuff to sell drop us a DM and we’ll try and fit you in if space becomes available. We’d love a record seller for starters.
URL:https://laverys.com/event/crilli-dnb-friends-day-party/
LOCATION:Lavery’s\, 12-18 Bradbury Place\, Belfast\, Antrim\, BT71RS\, United Kingdom
CATEGORIES:DJ
ATTACH;FMTTYPE=image/jpeg:https://laverys.com/wp-content/uploads/2025/04/Variations-_Event-Banner-copy.jpg
ORGANIZER;CN="Lavery's":MAILTO:info@laverys.com
END:VEVENT
END:VCALENDAR