BEGIN:VCALENDAR
VERSION:2.0
PRODID:-//Lavery&#039;s - ECPv6.15.18//NONSGML v1.0//EN
CALSCALE:GREGORIAN
METHOD:PUBLISH
X-WR-CALNAME:Lavery&#039;s
X-ORIGINAL-URL:https://laverys.com
X-WR-CALDESC:Events for Lavery&#039;s
REFRESH-INTERVAL;VALUE=DURATION:PT1H
X-Robots-Tag:noindex
X-PUBLISHED-TTL:PT1H
BEGIN:VTIMEZONE
TZID:UTC
BEGIN:STANDARD
TZOFFSETFROM:+0000
TZOFFSETTO:+0000
TZNAME:UTC
DTSTART:20220101T000000
END:STANDARD
END:VTIMEZONE
BEGIN:VEVENT
DTSTART;TZID=UTC:20231202T220000
DTEND;TZID=UTC:20231203T030000
DTSTAMP:20260420T082912
CREATED:20231019T170456Z
LAST-MODIFIED:20231019T170906Z
UID:19039-1701554400-1701572400@laverys.com
SUMMARY:Divergence presents: SHEE
DESCRIPTION:Divergence pres: SHEE \nWe are buzzing to invite SHEE to headline our next show in @laverysbelfast this December \nSHEE is without a doubt one of the hottest acts in Ireland at the moment with regular appearances across huge festivals such as Electric Picnic & Forbidden Fruit festival. \nSHEE shows no signs of slowly down\, his tracks have been \nsupported by massive artists such as @saluteaut & \n@barrycantswim. Not to mention he will be joining \n@barrycantswim for his UK tour** \nIt t goes without saying we’re excited to have him in for a special headline show. \nAlso a hefty support crew: \n@divergence909 \n@faux_djs \n@_seancreaney @nickkearney___ \n@s.sentif \n@davidsheerin
URL:https://laverys.com/event/divergence-shee-dec-23/
LOCATION:Lavery’s\, 12-18 Bradbury Place\, Belfast\, Antrim\, BT71RS\, United Kingdom
CATEGORIES:DJ
ATTACH;FMTTYPE=image/png:https://laverys.com/wp-content/uploads/2023/10/Insta-Post1.png
ORGANIZER;CN="Lavery's":MAILTO:info@laverys.com
END:VEVENT
END:VCALENDAR