BEGIN:VCALENDAR
VERSION:2.0
PRODID:-//Lavery&#039;s - ECPv6.15.18//NONSGML v1.0//EN
CALSCALE:GREGORIAN
METHOD:PUBLISH
X-WR-CALNAME:Lavery&#039;s
X-ORIGINAL-URL:https://laverys.com
X-WR-CALDESC:Events for Lavery&#039;s
REFRESH-INTERVAL;VALUE=DURATION:PT1H
X-Robots-Tag:noindex
X-PUBLISHED-TTL:PT1H
BEGIN:VTIMEZONE
TZID:UTC
BEGIN:STANDARD
TZOFFSETFROM:+0000
TZOFFSETTO:+0000
TZNAME:UTC
DTSTART:20240101T000000
END:STANDARD
END:VTIMEZONE
BEGIN:VEVENT
DTSTART;TZID=UTC:20250929T140000
DTEND;TZID=UTC:20250930T000000
DTSTAMP:20260419T212258
CREATED:20250916T120925Z
LAST-MODIFIED:20250916T120925Z
UID:31400-1759154400-1759190400@laverys.com
SUMMARY:Freshers Festival
DESCRIPTION:🪩 Freshers Festival 🪩 \n29th September we’re hosting our Freshers Festival to give you a taste of Belfast’s best sounds\, local artists\, retailers\, our own merch giveaways and student discounted food & drink 👚🎨🍻🍕 \nWe also have the help of the amazing QUB\, UU\, and Stran Uni societies who will be leading the fun and games around the building with DJ workshops\, open live jams\, pool & shuffleboard competitions\, poker\, drunken chess\, F1 simulators\, karaoke\, pop up markets & more 👀 \nRunning from 2pm throughout the day\, see you all there!
URL:https://laverys.com/event/freshers-festival/
LOCATION:Lavery’s\, 12-18 Bradbury Place\, Belfast\, Antrim\, BT71RS\, United Kingdom
ATTACH;FMTTYPE=image/jpeg:https://laverys.com/wp-content/uploads/2025/09/INSTA-POST-Laverys-Freshers-scaled.jpg
ORGANIZER;CN="Lavery's":MAILTO:info@laverys.com
END:VEVENT
END:VCALENDAR