BEGIN:VCALENDAR
VERSION:2.0
PRODID:-//Lavery&#039;s - ECPv6.15.18//NONSGML v1.0//EN
CALSCALE:GREGORIAN
METHOD:PUBLISH
X-WR-CALNAME:Lavery&#039;s
X-ORIGINAL-URL:https://laverys.com
X-WR-CALDESC:Events for Lavery&#039;s
REFRESH-INTERVAL;VALUE=DURATION:PT1H
X-Robots-Tag:noindex
X-PUBLISHED-TTL:PT1H
BEGIN:VTIMEZONE
TZID:UTC
BEGIN:STANDARD
TZOFFSETFROM:+0000
TZOFFSETTO:+0000
TZNAME:UTC
DTSTART:20220101T000000
END:STANDARD
END:VTIMEZONE
BEGIN:VEVENT
DTSTART;TZID=UTC:20230930T190000
DTEND;TZID=UTC:20230930T230000
DTSTAMP:20260420T201003
CREATED:20230811T134703Z
LAST-MODIFIED:20230811T135002Z
UID:18308-1696100400-1696114800@laverys.com
SUMMARY:Jack Devlin
DESCRIPTION:Northern Irish Indie newcomer Jack Devlin lands with new single ‘Dialogue’ released on 22nd September 2023. \nJack Devlin has been an unstoppable feature in Northern Ireland during the pandemic – playing gigs when the venues will have him and taking to the streets when the doors have been closed. With venues being closed he has traveled with a guitar busking on the streets of Ireland\, writing constantly and using initiative to win over friends. \nIn the summer of 2020 he realised that a caravan battery could power up a busking session and so he was active with musician friends in Sligo\, Galway\, Westport\, Dublin and Galway. The income was healthy and the surge in social media supporters was proof that the effort was worth it. \nBefore COVID Jack has supported the likes of David Keenan and Hermitage Green. All of this has been building towards his new single release\, the track ‘Dialogue’. Written with Harry from Hudson Taylor it’s a three minute power house with a sound that aims for bigger places. For fans of Sam Fender\, Cold War Kids and Jeff Buckley. One of the many songs he’s crafted at home during the pandemic. \nJack comes from Hilltown\, by the Mourne Mountains in Northern Irealand. He was learning guitar at school and was also embarked on a mountain bike adventure\, excelling on a competitive level. \nIn 2018 he was the Ulster Elite Enduro Champion. He rode in Italy and Austria and following a flight mishap at Whistler\, British Columbia\, he took to busking between rides to raise the extra cash for the journey home. This music/mountain bike connection was celebrated in a video\, Busk to Ride (2017). His other legacy from bike riding is a broken pelvis and a fractured wrist. \n“I’ve got plates in all sorts of places.” \nMusic claims his energies now. He has over 100 songs recorded in various states of readiness and has been garnering some significant industry attention as of recent times. All to be revealed in the coming months. \n“The song is always the foundation of where I judge my success\,” he reckons. \nTickets on sale August 14th
URL:https://laverys.com/event/jack-devlin/
LOCATION:Tom’s\, 12-18 Bradbury Place\, Belfast\, Antrim\, BT71RS\, United Kingdom
ATTACH;FMTTYPE=image/jpeg:https://laverys.com/wp-content/uploads/2023/08/Jack-Devlin_Dialogie_Cover-Art.-Smalljpg.jpg
ORGANIZER;CN="Shine":MAILTO:info@shine.net
END:VEVENT
END:VCALENDAR