BEGIN:VCALENDAR
VERSION:2.0
PRODID:-//Lavery&#039;s - ECPv6.15.20//NONSGML v1.0//EN
CALSCALE:GREGORIAN
METHOD:PUBLISH
X-WR-CALNAME:Lavery&#039;s
X-ORIGINAL-URL:https://laverys.com
X-WR-CALDESC:Events for Lavery&#039;s
REFRESH-INTERVAL;VALUE=DURATION:PT1H
X-Robots-Tag:noindex
X-PUBLISHED-TTL:PT1H
BEGIN:VTIMEZONE
TZID:UTC
BEGIN:STANDARD
TZOFFSETFROM:+0000
TZOFFSETTO:+0000
TZNAME:UTC
DTSTART:20220101T000000
END:STANDARD
END:VTIMEZONE
BEGIN:VEVENT
DTSTART;TZID=UTC:20231208T193000
DTEND;TZID=UTC:20231208T233000
DTSTAMP:20260425T134103
CREATED:20231128T154804Z
LAST-MODIFIED:20231128T155142Z
UID:19575-1702063800-1702078200@laverys.com
SUMMARY:Lavery's Comedy Club presents Micky Bartlett - ‘Special Recording’
DESCRIPTION:His brilliant razor-sharp wit and hilariously embarrassing anecdotes would make a psychiatrist blush. Micky has sold out multiple tours across Ireland and Australia. You’ve seen him on tv\, you’ve seen him on podcasts! And now he’s recording a new special in the best comedy club in the world! 8th December! 7:30 pm! \n‘Masterful way of delivering with punch and style… Devastating’ – Chortle.co.uk` \n‘A powerhouse of standup comedy’- beyondthejoke.com \n‘Very funny’ – Jimeoin \n‘One of the most consistently funny people I’ve ever worked with’ – Adam Hills \n‘I didn’t watch him’ – Kevin Hart
URL:https://laverys.com/event/laverys-comedy-club-presents-micky-bartlett-special-recording/
LOCATION:Lavery’s Comedy Club\, 12-18 Bradbury Place\, Belfast\, Antrim\, BT71RS\, United Kingdom
CATEGORIES:Lavery's Comedy Club
ATTACH;FMTTYPE=image/png:https://laverys.com/wp-content/uploads/2023/11/mickey169.png
ORGANIZER;CN="Both Barrels Comedy":MAILTO:comedy@laverys.com
END:VEVENT
END:VCALENDAR