BEGIN:VCALENDAR
VERSION:2.0
PRODID:-//Lavery&#039;s - ECPv6.15.18//NONSGML v1.0//EN
CALSCALE:GREGORIAN
METHOD:PUBLISH
X-WR-CALNAME:Lavery&#039;s
X-ORIGINAL-URL:https://laverys.com
X-WR-CALDESC:Events for Lavery&#039;s
REFRESH-INTERVAL;VALUE=DURATION:PT1H
X-Robots-Tag:noindex
X-PUBLISHED-TTL:PT1H
BEGIN:VTIMEZONE
TZID:UTC
BEGIN:STANDARD
TZOFFSETFROM:+0000
TZOFFSETTO:+0000
TZNAME:UTC
DTSTART:20250101T000000
END:STANDARD
END:VTIMEZONE
BEGIN:VEVENT
DTSTART;TZID=UTC:20260816T193000
DTEND;TZID=UTC:20260816T233000
DTSTAMP:20260419T230746
CREATED:20260213T175751Z
LAST-MODIFIED:20260323T094815Z
UID:32486-1786908600-1786923000@laverys.com
SUMMARY:Dan Nightingale & Friends - Sunday 16th August 2026
DESCRIPTION:Another tour of brilliant stand-up comedy from Dan Nightingale\, host of the Have A Word podcast\, and some of his very funny mates. First half is just Dan doing some crowd work and then running out his new set. Second half will be two pro sets from some of the best acts in the country. A great night of entertainment from some of your favourite comics. \nDan will be joined in Dublin & Belfast by Eshaan Akbar & Mark Nelson.
URL:https://laverys.com/event/laverys-comedy-club-sunday-16th-august-2026/
LOCATION:Tom’s\, 12-18 Bradbury Place\, Belfast\, Antrim\, BT71RS\, United Kingdom
CATEGORIES:Lavery's Comedy Club
ATTACH;FMTTYPE=image/jpeg:https://laverys.com/wp-content/uploads/2026/02/Dan-Nightingale-2023-WEB-3091197678.jpg
ORGANIZER;CN="Both Barrels Comedy":MAILTO:comedy@laverys.com
END:VEVENT
END:VCALENDAR