BEGIN:VCALENDAR
VERSION:2.0
PRODID:-//Lavery&#039;s - ECPv6.15.18//NONSGML v1.0//EN
CALSCALE:GREGORIAN
METHOD:PUBLISH
X-WR-CALNAME:Lavery&#039;s
X-ORIGINAL-URL:https://laverys.com
X-WR-CALDESC:Events for Lavery&#039;s
REFRESH-INTERVAL;VALUE=DURATION:PT1H
X-Robots-Tag:noindex
X-PUBLISHED-TTL:PT1H
BEGIN:VTIMEZONE
TZID:UTC
BEGIN:STANDARD
TZOFFSETFROM:+0000
TZOFFSETTO:+0000
TZNAME:UTC
DTSTART:20220101T000000
END:STANDARD
END:VTIMEZONE
BEGIN:VEVENT
DTSTART;TZID=UTC:20230309T193000
DTEND;TZID=UTC:20230309T233000
DTSTAMP:20260420T090349
CREATED:20230223T004150Z
LAST-MODIFIED:20230309T170005Z
UID:16994-1678390200-1678404600@laverys.com
SUMMARY:Lavery's Comedy Club
DESCRIPTION:
URL:https://laverys.com/event/laverys-comedy-club-thursday-9th-march-2023/
LOCATION:Tom’s\, 12-18 Bradbury Place\, Belfast\, Antrim\, BT71RS\, United Kingdom
CATEGORIES:Lavery's Comedy Club
ATTACH;FMTTYPE=image/png:https://laverys.com/wp-content/uploads/2023/02/comedy-sold-out.png
ORGANIZER;CN="Lavery's":MAILTO:info@laverys.com
END:VEVENT
END:VCALENDAR