BEGIN:VCALENDAR
VERSION:2.0
PRODID:-//Lavery&#039;s - ECPv6.15.18//NONSGML v1.0//EN
CALSCALE:GREGORIAN
METHOD:PUBLISH
X-WR-CALNAME:Lavery&#039;s
X-ORIGINAL-URL:https://laverys.com
X-WR-CALDESC:Events for Lavery&#039;s
REFRESH-INTERVAL;VALUE=DURATION:PT1H
X-Robots-Tag:noindex
X-PUBLISHED-TTL:PT1H
BEGIN:VTIMEZONE
TZID:UTC
BEGIN:STANDARD
TZOFFSETFROM:+0000
TZOFFSETTO:+0000
TZNAME:UTC
DTSTART:20240101T000000
END:STANDARD
END:VTIMEZONE
BEGIN:VEVENT
DTSTART;TZID=UTC:20250530T170000
DTEND;TZID=UTC:20250530T210000
DTSTAMP:20260421T111307
CREATED:20250421T210524Z
LAST-MODIFIED:20250421T210600Z
UID:30388-1748624400-1748638800@laverys.com
SUMMARY:LAVERYS.FM • Amy Millan - I Went to Find You
DESCRIPTION:Stars vocalist Amy Millan returns with a hushed\, heartfelt record full of longing and acoustic glow. Perfect for slow dances and quiet moments.
URL:https://laverys.com/event/laverys-fm-amy-milan-2025/
CATEGORIES:Lavery's FM
ATTACH;FMTTYPE=image/jpeg:https://laverys.com/wp-content/uploads/2024/03/amy1.jpg
END:VEVENT
END:VCALENDAR