BEGIN:VCALENDAR
VERSION:2.0
PRODID:-//Lavery&#039;s - ECPv6.15.18//NONSGML v1.0//EN
CALSCALE:GREGORIAN
METHOD:PUBLISH
X-WR-CALNAME:Lavery&#039;s
X-ORIGINAL-URL:https://laverys.com
X-WR-CALDESC:Events for Lavery&#039;s
REFRESH-INTERVAL;VALUE=DURATION:PT1H
X-Robots-Tag:noindex
X-PUBLISHED-TTL:PT1H
BEGIN:VTIMEZONE
TZID:UTC
BEGIN:STANDARD
TZOFFSETFROM:+0000
TZOFFSETTO:+0000
TZNAME:UTC
DTSTART:20240101T000000
END:STANDARD
END:VTIMEZONE
BEGIN:VEVENT
DTSTART;TZID=UTC:20250606T170000
DTEND;TZID=UTC:20250606T210000
DTSTAMP:20260420T023615
CREATED:20250421T210530Z
LAST-MODIFIED:20250421T210600Z
UID:30389-1749229200-1749243600@laverys.com
SUMMARY:LAVERYS.FM • Cypress Hill & London Symphony Orchestra - Black Sunday Live At The Royal Albert Hall
DESCRIPTION:The stoner rap legends go symphonic. Orchestral bombast meets hip-hop classics in this unexpectedly glorious crossover event.
URL:https://laverys.com/event/laverys-fm-cypress-hill-2025/
CATEGORIES:Lavery's FM
ATTACH;FMTTYPE=image/webp:https://laverys.com/wp-content/uploads/2024/03/1_098204f9-a8a6-47c2-a482-449389338cc1_800x.webp
END:VEVENT
END:VCALENDAR