BEGIN:VCALENDAR
VERSION:2.0
PRODID:-//Lavery&#039;s - ECPv6.15.18//NONSGML v1.0//EN
CALSCALE:GREGORIAN
METHOD:PUBLISH
X-WR-CALNAME:Lavery&#039;s
X-ORIGINAL-URL:https://laverys.com
X-WR-CALDESC:Events for Lavery&#039;s
REFRESH-INTERVAL;VALUE=DURATION:PT1H
X-Robots-Tag:noindex
X-PUBLISHED-TTL:PT1H
BEGIN:VTIMEZONE
TZID:UTC
BEGIN:STANDARD
TZOFFSETFROM:+0000
TZOFFSETTO:+0000
TZNAME:UTC
DTSTART:20240101T000000
END:STANDARD
END:VTIMEZONE
BEGIN:VEVENT
DTSTART;TZID=UTC:20250516T170000
DTEND;TZID=UTC:20250516T210000
DTSTAMP:20260421T025715
CREATED:20250421T210441Z
LAST-MODIFIED:20250421T210446Z
UID:30385-1747414800-1747429200@laverys.com
SUMMARY:LAVERYS.FM • tUnE-yArDs - Better Dreaming
DESCRIPTION:Polyrhythmic\, political\, and full of sonic surprises — tUnE-yArDs continue their percussive pop experiment with righteous energy.
URL:https://laverys.com/event/laverys-fm-ezra-furman-2025/
CATEGORIES:Lavery's FM
ATTACH;FMTTYPE=image/jpeg:https://laverys.com/wp-content/uploads/2024/03/Tune-Yards-Better-Dreaming-101858786.jpg
END:VEVENT
END:VCALENDAR