BEGIN:VCALENDAR
VERSION:2.0
PRODID:-//Lavery&#039;s - ECPv6.15.20//NONSGML v1.0//EN
CALSCALE:GREGORIAN
METHOD:PUBLISH
X-WR-CALNAME:Lavery&#039;s
X-ORIGINAL-URL:https://laverys.com
X-WR-CALDESC:Events for Lavery&#039;s
REFRESH-INTERVAL;VALUE=DURATION:PT1H
X-Robots-Tag:noindex
X-PUBLISHED-TTL:PT1H
BEGIN:VTIMEZONE
TZID:UTC
BEGIN:STANDARD
TZOFFSETFROM:+0000
TZOFFSETTO:+0000
TZNAME:UTC
DTSTART:20230101T000000
END:STANDARD
END:VTIMEZONE
BEGIN:VEVENT
DTSTART;TZID=UTC:20240906T173000
DTEND;TZID=UTC:20240906T210000
DTSTAMP:20260425T144045
CREATED:20240823T164636Z
LAST-MODIFIED:20240823T165011Z
UID:28016-1725643800-1725656400@laverys.com
SUMMARY:LAVERYS.FM • Fred Again… - Ten Days
DESCRIPTION:The concept for Fred Again‘s new album is simple: “My new record is called ten days\,” Fred said in a statement. “It’s ten songs about ten days.” Those 10 songs\, due out Sept. 6\, feature collaborations with Anderson .Paak\, Four Tet\, Skrillex\, Emmylou Harris\, among others. Three tracks from the album\, “adore u” (featuring Obongjayar)\, “ten” (featuring Jozzy and Jim Legxacy)\, and “places to be” (featuring Anderson .Paak and Chika) that have come out over the past year are available to stream now. \nAs simple as it is\, though\, Fred explained the ten days concept further on Instagram: “There’s been a lot of biggg\, mad\, crazy moments in the last year but basically all of these are about really very small quiet intimate moments\,” he wrote. “Some of them are\, like\, the most intensely joyful things I have felt\, and some of them are the other side of things. And some days I don’t want to speak about loads ‘cos I’m not the only person it was an important day for if that makes sense.”
URL:https://laverys.com/event/laverys-fm-fred-again-ten-days/
LOCATION:Lavery’s\, 12-18 Bradbury Place\, Belfast\, Antrim\, BT71RS\, United Kingdom
CATEGORIES:Lavery's FM
ATTACH;FMTTYPE=image/jpeg:https://laverys.com/wp-content/uploads/2024/08/Fred_Again_and_Obongjayar_-_Adore_U.jpg
ORGANIZER;CN="Lavery's":MAILTO:info@laverys.com
END:VEVENT
END:VCALENDAR