BEGIN:VCALENDAR
VERSION:2.0
PRODID:-//Lavery&#039;s - ECPv6.15.18//NONSGML v1.0//EN
CALSCALE:GREGORIAN
METHOD:PUBLISH
X-WR-CALNAME:Lavery&#039;s
X-ORIGINAL-URL:https://laverys.com
X-WR-CALDESC:Events for Lavery&#039;s
REFRESH-INTERVAL;VALUE=DURATION:PT1H
X-Robots-Tag:noindex
X-PUBLISHED-TTL:PT1H
BEGIN:VTIMEZONE
TZID:UTC
BEGIN:STANDARD
TZOFFSETFROM:+0000
TZOFFSETTO:+0000
TZNAME:UTC
DTSTART:20240101T000000
END:STANDARD
END:VTIMEZONE
BEGIN:VEVENT
DTSTART;TZID=UTC:20250606T170000
DTEND;TZID=UTC:20250606T210000
DTSTAMP:20260420T131114
CREATED:20250421T210422Z
LAST-MODIFIED:20250421T210446Z
UID:30382-1749229200-1749243600@laverys.com
SUMMARY:LAVERYS.FM • Little Simz - Lotus
DESCRIPTION:Elegant\, sharp\, and spiritually expansive. Little Simz elevates her lyricism and sound into something meditative and masterful.
URL:https://laverys.com/event/laverys-fm-little-simz-2025/
CATEGORIES:Lavery's FM
ATTACH;FMTTYPE=image/jpeg:https://laverys.com/wp-content/uploads/2024/03/Little-Simz-Lotus-album-artwork.-Credit-PRESS.jpg
END:VEVENT
END:VCALENDAR