BEGIN:VCALENDAR
VERSION:2.0
PRODID:-//Lavery&#039;s - ECPv6.15.20//NONSGML v1.0//EN
CALSCALE:GREGORIAN
METHOD:PUBLISH
X-WR-CALNAME:Lavery&#039;s
X-ORIGINAL-URL:https://laverys.com
X-WR-CALDESC:Events for Lavery&#039;s
REFRESH-INTERVAL;VALUE=DURATION:PT1H
X-Robots-Tag:noindex
X-PUBLISHED-TTL:PT1H
BEGIN:VTIMEZONE
TZID:UTC
BEGIN:STANDARD
TZOFFSETFROM:+0000
TZOFFSETTO:+0000
TZNAME:UTC
DTSTART:20240101T000000
END:STANDARD
END:VTIMEZONE
BEGIN:VEVENT
DTSTART;TZID=UTC:20250523T170000
DTEND;TZID=UTC:20250523T210000
DTSTAMP:20260422T091638
CREATED:20250421T210518Z
LAST-MODIFIED:20250421T210600Z
UID:30387-1748019600-1748034000@laverys.com
SUMMARY:LAVERYS.FM • Sparks - MAD!
DESCRIPTION:Still eccentric\, still brilliant. Sparks deliver another high-concept art-pop explosion\, full of wit\, weirdness\, and earworms.
URL:https://laverys.com/event/laverys-fm-sparks-2025/
CATEGORIES:Lavery's FM
ATTACH;FMTTYPE=image/jpeg:https://laverys.com/wp-content/uploads/2024/03/Sparks-MAD-Album-Art-1392x1392-3720580206.jpg
END:VEVENT
END:VCALENDAR