BEGIN:VCALENDAR
VERSION:2.0
PRODID:-//Lavery&#039;s - ECPv6.15.20//NONSGML v1.0//EN
CALSCALE:GREGORIAN
METHOD:PUBLISH
X-WR-CALNAME:Lavery&#039;s
X-ORIGINAL-URL:https://laverys.com
X-WR-CALDESC:Events for Lavery&#039;s
REFRESH-INTERVAL;VALUE=DURATION:PT1H
X-Robots-Tag:noindex
X-PUBLISHED-TTL:PT1H
BEGIN:VTIMEZONE
TZID:UTC
BEGIN:STANDARD
TZOFFSETFROM:+0000
TZOFFSETTO:+0000
TZNAME:UTC
DTSTART:20240101T000000
END:STANDARD
END:VTIMEZONE
BEGIN:VEVENT
DTSTART;TZID=UTC:20250425T170000
DTEND;TZID=UTC:20250425T210000
DTSTAMP:20260425T114117
CREATED:20250421T210402Z
LAST-MODIFIED:20250421T210446Z
UID:30379-1745600400-1745614800@laverys.com
SUMMARY:LAVERYS.FM • Viagra Boys - viagr aboys
DESCRIPTION:Sweaty\, sarcastic\, and wonderfully gross. Viagra Boys bring sleaze\, swagger\, and synths to your Friday night meltdown.
URL:https://laverys.com/event/laverys-fm-viagra-boys-2025/
CATEGORIES:Lavery's FM
ATTACH;FMTTYPE=image/jpeg:https://laverys.com/wp-content/uploads/2024/03/81PhpaKQKEL._UF8941000_QL80_.jpg
END:VEVENT
END:VCALENDAR