BEGIN:VCALENDAR
VERSION:2.0
PRODID:-//Lavery&#039;s - ECPv6.15.18//NONSGML v1.0//EN
CALSCALE:GREGORIAN
METHOD:PUBLISH
X-WR-CALNAME:Lavery&#039;s
X-ORIGINAL-URL:https://laverys.com
X-WR-CALDESC:Events for Lavery&#039;s
REFRESH-INTERVAL;VALUE=DURATION:PT1H
X-Robots-Tag:noindex
X-PUBLISHED-TTL:PT1H
BEGIN:VTIMEZONE
TZID:UTC
BEGIN:STANDARD
TZOFFSETFROM:+0000
TZOFFSETTO:+0000
TZNAME:UTC
DTSTART:20220101T000000
END:STANDARD
END:VTIMEZONE
BEGIN:VEVENT
DTSTART;TZID=UTC:20230313T200000
DTEND;TZID=UTC:20230313T230000
DTSTAMP:20260420T113911
CREATED:20230301T144513Z
LAST-MODIFIED:20230301T144513Z
UID:17285-1678737600-1678748400@laverys.com
SUMMARY:Lavery's Live - Marty Gorman
DESCRIPTION:Paddy’s week
URL:https://laverys.com/event/laverys-live-marty-gorman/
LOCATION:Lavery’s Public Bar\, 12-18 Bradbury Place\, Belfast\, Antrim\, BT71RS\, United Kingdom
ATTACH;FMTTYPE=image/png:https://laverys.com/wp-content/uploads/2023/02/1.png
ORGANIZER;CN="Lavery's":MAILTO:info@laverys.com
END:VEVENT
END:VCALENDAR