BEGIN:VCALENDAR
VERSION:2.0
PRODID:-//Lavery&#039;s - ECPv6.15.20//NONSGML v1.0//EN
CALSCALE:GREGORIAN
METHOD:PUBLISH
X-WR-CALNAME:Lavery&#039;s
X-ORIGINAL-URL:https://laverys.com
X-WR-CALDESC:Events for Lavery&#039;s
REFRESH-INTERVAL;VALUE=DURATION:PT1H
X-Robots-Tag:noindex
X-PUBLISHED-TTL:PT1H
BEGIN:VTIMEZONE
TZID:UTC
BEGIN:STANDARD
TZOFFSETFROM:+0000
TZOFFSETTO:+0000
TZNAME:UTC
DTSTART:20250101T000000
END:STANDARD
END:VTIMEZONE
BEGIN:VEVENT
DTSTART;TZID=UTC:20260207T220000
DTEND;TZID=UTC:20260208T030000
DTSTAMP:20260425T233244
CREATED:20260120T134429Z
LAST-MODIFIED:20260120T134732Z
UID:32115-1770501600-1770519600@laverys.com
SUMMARY:Mosaic x Twistd presents Bailey Ibbs
DESCRIPTION:𝐌𝐨𝐬𝐚𝐢𝐜 𝐱 𝐓𝐰𝐢𝐬𝐭𝐝 𝐩𝐫𝐞𝐬𝐞𝐧𝐭𝐬 𝐁𝐚𝐢𝐥𝐞𝐲 𝐈𝐛𝐛𝐬 \nBailey Ibbs plays a key role in shaping the current landscape of techno and electronic music. Across DJing\, production\, and his Night Service label\, his sound moves naturally between techno\, breaks\, and rave\, always with a clear\, contemporary edge. \nMain support on the night comes from a very special and exclusive B2B between @oisinok__ and @seancarlin__\nOisin is now a Twistd resident whilst Sean has been a huge part of the Mosaic family helping us out at every event. This B2B will be a techno special in its purest form! \n𝐌𝐨𝐬𝐚𝐢𝐜 𝐱 𝐓𝐰𝐢𝐬𝐭𝐝 🖤
URL:https://laverys.com/event/mosaic-x-twistd-presents-bailey-ibbs/
LOCATION:Lavery’s\, 12-18 Bradbury Place\, Belfast\, Antrim\, BT71RS\, United Kingdom
CATEGORIES:DJ
ATTACH;FMTTYPE=image/webp:https://laverys.com/wp-content/uploads/2026/01/ee4850d473e51817019ec147f0fe436f91465119.webp
ORGANIZER;CN="Lavery's":MAILTO:info@laverys.com
END:VEVENT
END:VCALENDAR