BEGIN:VCALENDAR
VERSION:2.0
PRODID:-//Lavery&#039;s - ECPv6.15.20//NONSGML v1.0//EN
CALSCALE:GREGORIAN
METHOD:PUBLISH
X-WR-CALNAME:Lavery&#039;s
X-ORIGINAL-URL:https://laverys.com
X-WR-CALDESC:Events for Lavery&#039;s
REFRESH-INTERVAL;VALUE=DURATION:PT1H
X-Robots-Tag:noindex
X-PUBLISHED-TTL:PT1H
BEGIN:VTIMEZONE
TZID:UTC
BEGIN:STANDARD
TZOFFSETFROM:+0000
TZOFFSETTO:+0000
TZNAME:UTC
DTSTART:20220101T000000
END:STANDARD
END:VTIMEZONE
BEGIN:VEVENT
DTSTART;TZID=UTC:20231006T210000
DTEND;TZID=UTC:20231007T030000
DTSTAMP:20260422T035006
CREATED:20230920T161557Z
LAST-MODIFIED:20230920T165308Z
UID:18734-1696626000-1696647600@laverys.com
SUMMARY:OnTheFence welcomes Tunney
DESCRIPTION:We are very excited to welcome Tunney\, one of Dublin’s finest\, and co-founder of elmnts. With his knack for selections and opening for artists such as Gene on Earth\, Huerta\, and Charlotte\, we’re definitely in for a treat!
URL:https://laverys.com/event/on-the-fence-tunney-oct-23/
LOCATION:Tom’s\, 12-18 Bradbury Place\, Belfast\, Antrim\, BT71RS\, United Kingdom
CATEGORIES:DJ
ATTACH;FMTTYPE=image/jpeg:https://laverys.com/wp-content/uploads/2023/09/onthefenceee.jpg
END:VEVENT
END:VCALENDAR