BEGIN:VCALENDAR
VERSION:2.0
PRODID:-//Lavery&#039;s - ECPv6.15.18//NONSGML v1.0//EN
CALSCALE:GREGORIAN
METHOD:PUBLISH
X-WR-CALNAME:Lavery&#039;s
X-ORIGINAL-URL:https://laverys.com
X-WR-CALDESC:Events for Lavery&#039;s
REFRESH-INTERVAL;VALUE=DURATION:PT1H
X-Robots-Tag:noindex
X-PUBLISHED-TTL:PT1H
BEGIN:VTIMEZONE
TZID:UTC
BEGIN:STANDARD
TZOFFSETFROM:+0000
TZOFFSETTO:+0000
TZNAME:UTC
DTSTART:20240101T000000
END:STANDARD
END:VTIMEZONE
BEGIN:VEVENT
DTSTART;TZID=UTC:20250509T210000
DTEND;TZID=UTC:20250510T011500
DTSTAMP:20260420T094317
CREATED:20250124T161138Z
LAST-MODIFIED:20250124T161138Z
UID:10003661-1746824400-1746839700@laverys.com
SUMMARY:Paddy Towe
DESCRIPTION:Paddy is widely regarded as one of Belfast’s best DJs. Having co-founded Belfast’s biggest club night Twitch\, he’s been on the scene for 20 years.
URL:https://laverys.com/event/paddy-towe-7/2025-05-09/
LOCATION:Lavery’s\, 12-18 Bradbury Place\, Belfast\, Antrim\, BT71RS\, United Kingdom
CATEGORIES:DJ
ATTACH;FMTTYPE=image/jpeg:https://laverys.com/wp-content/uploads/2024/03/291A9665-e1767870980838.jpg
ORGANIZER;CN="Lavery's":MAILTO:info@laverys.com
END:VEVENT
END:VCALENDAR