BEGIN:VCALENDAR
VERSION:2.0
PRODID:-//Lavery&#039;s - ECPv6.15.18//NONSGML v1.0//EN
CALSCALE:GREGORIAN
METHOD:PUBLISH
X-WR-CALNAME:Lavery&#039;s
X-ORIGINAL-URL:https://laverys.com
X-WR-CALDESC:Events for Lavery&#039;s
REFRESH-INTERVAL;VALUE=DURATION:PT1H
X-Robots-Tag:noindex
X-PUBLISHED-TTL:PT1H
BEGIN:VTIMEZONE
TZID:UTC
BEGIN:STANDARD
TZOFFSETFROM:+0000
TZOFFSETTO:+0000
TZNAME:UTC
DTSTART:20230101T000000
END:STANDARD
END:VTIMEZONE
BEGIN:VEVENT
DTSTART;TZID=UTC:20241219T203000
DTEND;TZID=UTC:20241219T224500
DTSTAMP:20260421T081347
CREATED:20241107T174807Z
LAST-MODIFIED:20241107T182116Z
UID:29027-1734640200-1734648300@laverys.com
SUMMARY:Paul Brady & Cipasso
DESCRIPTION:Paul is an Irish traditional musician and singer/songwriter that grew up playing jigs and reels mainly on tin whistle and trad flute. Since turning 18 he has added bouzouki and guitar to his instrument range. \n\nFrom Irish trad to a mixture to suit the whole audience\, Paul’s energetic live performances will take you on a journey showcasing an exciting artist in full control of his talents.
URL:https://laverys.com/event/paul-brady-cipasso/
LOCATION:Lavery’s\, 12-18 Bradbury Place\, Belfast\, Antrim\, BT71RS\, United Kingdom
CATEGORIES:Christmas Market
ATTACH;FMTTYPE=image/jpeg:https://laverys.com/wp-content/uploads/2024/11/Screenshot-2024-11-06-at-16.53.40-e1730912326452.jpg
ORGANIZER;CN="Lavery's":MAILTO:info@laverys.com
END:VEVENT
END:VCALENDAR