BEGIN:VCALENDAR
VERSION:2.0
PRODID:-//Lavery&#039;s - ECPv6.15.18//NONSGML v1.0//EN
CALSCALE:GREGORIAN
METHOD:PUBLISH
X-WR-CALNAME:Lavery&#039;s
X-ORIGINAL-URL:https://laverys.com
X-WR-CALDESC:Events for Lavery&#039;s
REFRESH-INTERVAL;VALUE=DURATION:PT1H
X-Robots-Tag:noindex
X-PUBLISHED-TTL:PT1H
BEGIN:VTIMEZONE
TZID:UTC
BEGIN:STANDARD
TZOFFSETFROM:+0000
TZOFFSETTO:+0000
TZNAME:UTC
DTSTART:20230101T000000
END:STANDARD
END:VTIMEZONE
BEGIN:VEVENT
DTSTART;TZID=UTC:20241102T210000
DTEND;TZID=UTC:20241103T011500
DTSTAMP:20260421T084200
CREATED:20241029T165503Z
LAST-MODIFIED:20241029T165503Z
UID:28783-1730581200-1730596500@laverys.com
SUMMARY:Rebecca Nicell
DESCRIPTION:Rebecca has developed her own unique sound within our residents. Regardless of genre\, tempo\, style or release date\, Becca will get you moving!
URL:https://laverys.com/event/rebecca-nicell-6/
LOCATION:Lavery’s\, 12-18 Bradbury Place\, Belfast\, Antrim\, BT71RS\, United Kingdom
CATEGORIES:DJ
ATTACH;FMTTYPE=image/jpeg:https://laverys.com/wp-content/uploads/2024/10/Screenshot-2024-10-23-at-16.03.57-1-e1731582881389.jpg
ORGANIZER;CN="Lavery's":MAILTO:info@laverys.com
END:VEVENT
END:VCALENDAR