BEGIN:VCALENDAR
VERSION:2.0
PRODID:-//Lavery&#039;s - ECPv6.15.18//NONSGML v1.0//EN
CALSCALE:GREGORIAN
METHOD:PUBLISH
X-WR-CALNAME:Lavery&#039;s
X-ORIGINAL-URL:https://laverys.com
X-WR-CALDESC:Events for Lavery&#039;s
REFRESH-INTERVAL;VALUE=DURATION:PT1H
X-Robots-Tag:noindex
X-PUBLISHED-TTL:PT1H
BEGIN:VTIMEZONE
TZID:UTC
BEGIN:STANDARD
TZOFFSETFROM:+0000
TZOFFSETTO:+0000
TZNAME:UTC
DTSTART:20240101T000000
END:STANDARD
END:VTIMEZONE
BEGIN:VEVENT
DTSTART;TZID=UTC:20250523T210000
DTEND;TZID=UTC:20250524T011500
DTSTAMP:20260420T045726
CREATED:20250123T155627Z
LAST-MODIFIED:20250123T155627Z
UID:10003610-1748034000-1748049300@laverys.com
SUMMARY:Schmutz
DESCRIPTION:Schmutz is a well known DJ and promoter that has brought some of the biggest names to our city. Having curated some of Belfast’s most notable club nights\, the name Schmutz is synonymous with the Belfast clubbing scene.
URL:https://laverys.com/event/schmutz-4/2025-05-23/
LOCATION:Lavery’s\, 12-18 Bradbury Place\, Belfast\, Antrim\, BT71RS\, United Kingdom
CATEGORIES:DJ
ATTACH;FMTTYPE=image/jpeg:https://laverys.com/wp-content/uploads/2024/10/Screenshot-2024-10-23-at-17.02.03-e1732630385977.jpg
ORGANIZER;CN="Lavery's":MAILTO:info@laverys.com
END:VEVENT
END:VCALENDAR