BEGIN:VCALENDAR
VERSION:2.0
PRODID:-//Lavery&#039;s - ECPv6.15.18//NONSGML v1.0//EN
CALSCALE:GREGORIAN
METHOD:PUBLISH
X-WR-CALNAME:Lavery&#039;s
X-ORIGINAL-URL:https://laverys.com
X-WR-CALDESC:Events for Lavery&#039;s
REFRESH-INTERVAL;VALUE=DURATION:PT1H
X-Robots-Tag:noindex
X-PUBLISHED-TTL:PT1H
BEGIN:VTIMEZONE
TZID:UTC
BEGIN:STANDARD
TZOFFSETFROM:+0000
TZOFFSETTO:+0000
TZNAME:UTC
DTSTART:20240101T000000
END:STANDARD
END:VTIMEZONE
BEGIN:VEVENT
DTSTART;TZID=UTC:20250504T190000
DTEND;TZID=UTC:20250504T210000
DTSTAMP:20260420T062904
CREATED:20250502T163617Z
LAST-MODIFIED:20250502T164340Z
UID:30515-1746385200-1746392400@laverys.com
SUMMARY:Star Wars - The Musical Comedy
DESCRIPTION:Luke Skywalker wiles away his youth sipping blue milk and farming moisture for his Aunt and Uncle on the desert planet of Tatooine – but a chance encounter with a precocious droid hurls Luke into battle against the evil Galactic Empire. Will he rescue the beautiful princess? What will become of his Uncle and Aunt and their moisture farming business? \nThe cast at Belfast Improv take on a sci-fi classic and add a comedic spin to it. All songs will be improvised in the moment\, with musical accompaniment throughout the show. \n……………………………. \nDoors at 6.30pm \nShow starts at 7pm and ends at 9pm\, with a 15 minute intermission.
URL:https://laverys.com/event/star-wars-the-musical-comedy/
LOCATION:Lavery’s\, 12-18 Bradbury Place\, Belfast\, Antrim\, BT71RS\, United Kingdom
CATEGORIES:Belfast Improv
ATTACH;FMTTYPE=image/avif:https://laverys.com/wp-content/uploads/2025/05/https___cdn.evbuc_.com_images_998822683_245103910770_1_original-1.avif
END:VEVENT
END:VCALENDAR