BEGIN:VCALENDAR
VERSION:2.0
PRODID:-//Lavery&#039;s - ECPv6.15.18//NONSGML v1.0//EN
CALSCALE:GREGORIAN
METHOD:PUBLISH
X-WR-CALNAME:Lavery&#039;s
X-ORIGINAL-URL:https://laverys.com
X-WR-CALDESC:Events for Lavery&#039;s
REFRESH-INTERVAL;VALUE=DURATION:PT1H
X-Robots-Tag:noindex
X-PUBLISHED-TTL:PT1H
BEGIN:VTIMEZONE
TZID:UTC
BEGIN:STANDARD
TZOFFSETFROM:+0000
TZOFFSETTO:+0000
TZNAME:UTC
DTSTART:20240101T000000
END:STANDARD
END:VTIMEZONE
BEGIN:VEVENT
DTSTART;TZID=UTC:20250523T210000
DTEND;TZID=UTC:20250524T011500
DTSTAMP:20260419T193108
CREATED:20250123T161939Z
LAST-MODIFIED:20250123T161939Z
UID:10003615-1748034000-1748049300@laverys.com
SUMMARY:Stevie Dougal
DESCRIPTION:Stevie has been on the scene for a number of years\, having DJ’d around some of Belfast’s iconic venues. With heaps of experience and knowledge for adaptable set selection\, Stevie becomes every venues favourite DJ instantaneously. His sets are always high energy! 
URL:https://laverys.com/event/stevie-dougal-3/2025-05-23/
LOCATION:Lavery’s\, 12-18 Bradbury Place\, Belfast\, Antrim\, BT71RS\, United Kingdom
CATEGORIES:DJ
ATTACH;FMTTYPE=image/jpeg:https://laverys.com/wp-content/uploads/2024/11/Screenshot-2024-11-07-at-19.09.40-1-e1731006745624.jpg
ORGANIZER;CN="Lavery's":MAILTO:info@laverys.com
END:VEVENT
END:VCALENDAR