BEGIN:VCALENDAR
VERSION:2.0
PRODID:-//Lavery&#039;s - ECPv6.15.18//NONSGML v1.0//EN
CALSCALE:GREGORIAN
METHOD:PUBLISH
X-WR-CALNAME:Lavery&#039;s
X-ORIGINAL-URL:https://laverys.com
X-WR-CALDESC:Events for Lavery&#039;s
REFRESH-INTERVAL;VALUE=DURATION:PT1H
X-Robots-Tag:noindex
X-PUBLISHED-TTL:PT1H
BEGIN:VTIMEZONE
TZID:UTC
BEGIN:STANDARD
TZOFFSETFROM:+0000
TZOFFSETTO:+0000
TZNAME:UTC
DTSTART:20240101T000000
END:STANDARD
END:VTIMEZONE
BEGIN:VEVENT
DTSTART;TZID=UTC:20250516T213000
DTEND;TZID=UTC:20250517T003000
DTSTAMP:20260421T031502
CREATED:20250124T173712Z
LAST-MODIFIED:20250124T173712Z
UID:10003689-1747431000-1747441800@laverys.com
SUMMARY:Stick With It
DESCRIPTION:As the lads put it..”We’ll be playing some songs you know and some songs you don’t know\, but that’s all part of the Stick With It experience”. Whatever song it is you hear\, it’s guaranteed to have you up dancing!
URL:https://laverys.com/event/stick-with-it-4/2025-05-16/
LOCATION:Lavery’s\, 12-18 Bradbury Place\, Belfast\, Antrim\, BT71RS\, United Kingdom
CATEGORIES:Live at Lavery's
ATTACH;FMTTYPE=image/jpeg:https://laverys.com/wp-content/uploads/2024/11/Screenshot-2024-11-26-at-14.30.47-e1732631573267.jpg
ORGANIZER;CN="Lavery's":MAILTO:info@laverys.com
END:VEVENT
END:VCALENDAR