BEGIN:VCALENDAR
VERSION:2.0
PRODID:-//Lavery&#039;s - ECPv6.15.18//NONSGML v1.0//EN
CALSCALE:GREGORIAN
METHOD:PUBLISH
X-WR-CALNAME:Lavery&#039;s
X-ORIGINAL-URL:https://laverys.com
X-WR-CALDESC:Events for Lavery&#039;s
REFRESH-INTERVAL;VALUE=DURATION:PT1H
X-Robots-Tag:noindex
X-PUBLISHED-TTL:PT1H
BEGIN:VTIMEZONE
TZID:UTC
BEGIN:STANDARD
TZOFFSETFROM:+0000
TZOFFSETTO:+0000
TZNAME:UTC
DTSTART:20240101T000000
END:STANDARD
END:VTIMEZONE
BEGIN:VEVENT
DTSTART;TZID=UTC:20250523T193000
DTEND;TZID=UTC:20250523T210000
DTSTAMP:20260420T173034
CREATED:20250514T160110Z
LAST-MODIFIED:20250514T160224Z
UID:30525-1748028600-1748034000@laverys.com
SUMMARY:The Cat Laughs Comedy Festival - Abracatabra
DESCRIPTION:Featuring Paddy McDonnell\, Rich Hall\, Neil Delamere\, Christopher McArthur-Boyd\, Kevin McGahern\, Emma Doran*
URL:https://laverys.com/event/the-cat-laughs-comedy-festival-abracatabra/
LOCATION:Lavery’s\, 12-18 Bradbury Place\, Belfast\, Antrim\, BT71RS\, United Kingdom
ATTACH;FMTTYPE=image/jpeg:https://laverys.com/wp-content/uploads/2025/05/Unknown.jpeg
ORGANIZER;CN="Shine":MAILTO:info@shine.net
END:VEVENT
END:VCALENDAR