BEGIN:VCALENDAR
VERSION:2.0
PRODID:-//Lavery&#039;s - ECPv6.15.20//NONSGML v1.0//EN
CALSCALE:GREGORIAN
METHOD:PUBLISH
X-WR-CALNAME:Lavery&#039;s
X-ORIGINAL-URL:https://laverys.com
X-WR-CALDESC:Events for Lavery&#039;s
REFRESH-INTERVAL;VALUE=DURATION:PT1H
X-Robots-Tag:noindex
X-PUBLISHED-TTL:PT1H
BEGIN:VTIMEZONE
TZID:UTC
BEGIN:STANDARD
TZOFFSETFROM:+0000
TZOFFSETTO:+0000
TZNAME:UTC
DTSTART:20230101T000000
END:STANDARD
END:VTIMEZONE
BEGIN:VEVENT
DTSTART;TZID=UTC:20241121T203000
DTEND;TZID=UTC:20241121T224500
DTSTAMP:20260422T040221
CREATED:20241106T152158Z
LAST-MODIFIED:20241107T182045Z
UID:28943-1732221000-1732229100@laverys.com
SUMMARY:The City
DESCRIPTION:The City have been brining their upbeat\, high energy sets to bars and functions in Belfast for a number of years.  Scott and Ricky are very experienced in catering for all types of tastes and keep the dance floor full!
URL:https://laverys.com/event/the-city-3/
LOCATION:Lavery’s\, 12-18 Bradbury Place\, Belfast\, Antrim\, BT71RS\, United Kingdom
CATEGORIES:Christmas Market
ATTACH;FMTTYPE=image/jpeg:https://laverys.com/wp-content/uploads/2024/10/Screenshot-2024-10-24-at-10.11.33-e1730905862861.jpg
ORGANIZER;CN="Lavery's":MAILTO:info@laverys.com
END:VEVENT
END:VCALENDAR