BEGIN:VCALENDAR
VERSION:2.0
PRODID:-//Lavery&#039;s - ECPv6.15.20//NONSGML v1.0//EN
CALSCALE:GREGORIAN
METHOD:PUBLISH
X-WR-CALNAME:Lavery&#039;s
X-ORIGINAL-URL:https://laverys.com
X-WR-CALDESC:Events for Lavery&#039;s
REFRESH-INTERVAL;VALUE=DURATION:PT1H
X-Robots-Tag:noindex
X-PUBLISHED-TTL:PT1H
BEGIN:VTIMEZONE
TZID:UTC
BEGIN:STANDARD
TZOFFSETFROM:+0000
TZOFFSETTO:+0000
TZNAME:UTC
DTSTART:20220101T000000
END:STANDARD
END:VTIMEZONE
BEGIN:VEVENT
DTSTART;TZID=UTC:20230312T200000
DTEND;TZID=UTC:20230312T230000
DTSTAMP:20260426T041621
CREATED:20230310T123052Z
LAST-MODIFIED:20230310T123052Z
UID:17397-1678651200-1678662000@laverys.com
SUMMARY:This Never Happened : Work in Progress Show w/ Colin Geddis & Aaron McCann
DESCRIPTION:Colin Geddis and Aaron McCann bring a new Work in Progress show to Lavery’s Comedy Club
URL:https://laverys.com/event/this-never-happened-wip-colin-geddis-aaron-mccann/
LOCATION:Lavery’s Comedy Club\, 12-18 Bradbury Place\, Belfast\, Antrim\, BT71RS\, United Kingdom
CATEGORIES:Lavery's Comedy Club
ATTACH;FMTTYPE=image/png:https://laverys.com/wp-content/uploads/2023/03/neverhappened.png
ORGANIZER;CN="Both Barrels Comedy":MAILTO:comedy@laverys.com
END:VEVENT
END:VCALENDAR