BEGIN:VCALENDAR
VERSION:2.0
PRODID:-//Lavery&#039;s - ECPv6.15.20//NONSGML v1.0//EN
CALSCALE:GREGORIAN
METHOD:PUBLISH
X-WR-CALNAME:Lavery&#039;s
X-ORIGINAL-URL:https://laverys.com
X-WR-CALDESC:Events for Lavery&#039;s
REFRESH-INTERVAL;VALUE=DURATION:PT1H
X-Robots-Tag:noindex
X-PUBLISHED-TTL:PT1H
BEGIN:VTIMEZONE
TZID:UTC
BEGIN:STANDARD
TZOFFSETFROM:+0000
TZOFFSETTO:+0000
TZNAME:UTC
DTSTART:20220101T000000
END:STANDARD
END:VTIMEZONE
BEGIN:VEVENT
DTSTART;TZID=UTC:20231031T213000
DTEND;TZID=UTC:20231101T013000
DTSTAMP:20260423T143628
CREATED:20231012T142920Z
LAST-MODIFIED:20231012T143250Z
UID:18999-1698787800-1698802200@laverys.com
SUMMARY:Tuesday 31st Jungle Book Legion X Lemonade Shoelace X CAOIMHE Halloween 2023
DESCRIPTION:We’ve a multi-level Halloween experience like no other\, that promises bone-rattling beats\, and ghoulish fun at every corner. \n? Jungle Book Legion Top Floor Takeover: The wild beats and untamed rhythms are moving upstairs! The Jungle Book Legion lads will be taking over the big room\, bringing the heart of the jungle right to our top floor. \n? Lemonade Shoelace Live & DJ set: In their own words; “It’s some sort of psychedelic sundae\, I guess! It’s an explosion of melodies with a sprinkle of synths\, and a warm\, pulsing drum and bass section\, which I suppose is the custard that glues it all together… There’s also the cotton candy guitars that float around like clouds\, and some sort of rainbow vocal harmony in between. I’m not too sure if that’s music I’m describing or a sunny afternoon at an ice cream shop\, but it’s probably the same thing anyway.” Grab a spoon & get stuck in ? \n? CAOIMHE on the Back Roof Terrace: We’re delighted to be welcoming Caoimhe to the line up\, she’s going to be bringing the energy to the back roof terrace.⚡️ \nWhether you’re channeling ghoulish glamor\, quirky creatures\, or ethereal entities\, come dressed to impress. Prizes await those with the most captivating costumes! \nThis is not just another Halloween party—it’s THE Halloween party. \nGather your ghouls\, choose your charms\, and brace yourselves for an unforgettable\, thrilling night–it’s going to be one hell of a party! ?? \nBook your tickets now – if you dare! ? \n \n \n 
URL:https://laverys.com/event/tuesday-31st-halloween-2023/
LOCATION:Lavery’s\, 12-18 Bradbury Place\, Belfast\, Antrim\, BT71RS\, United Kingdom
CATEGORIES:DJ
ATTACH;FMTTYPE=image/gif:https://laverys.com/wp-content/uploads/2023/10/31stsmalller.gif
ORGANIZER;CN="Lavery's":MAILTO:info@laverys.com
END:VEVENT
END:VCALENDAR