BEGIN:VCALENDAR
VERSION:2.0
PRODID:-//Lavery&#039;s - ECPv6.15.20//NONSGML v1.0//EN
CALSCALE:GREGORIAN
METHOD:PUBLISH
X-WR-CALNAME:Lavery&#039;s
X-ORIGINAL-URL:https://laverys.com
X-WR-CALDESC:Events for Lavery&#039;s
REFRESH-INTERVAL;VALUE=DURATION:PT1H
X-Robots-Tag:noindex
X-PUBLISHED-TTL:PT1H
BEGIN:VTIMEZONE
TZID:UTC
BEGIN:STANDARD
TZOFFSETFROM:+0000
TZOFFSETTO:+0000
TZNAME:UTC
DTSTART:20230101T000000
END:STANDARD
END:VTIMEZONE
BEGIN:VEVENT
DTSTART;TZID=UTC:20240608T220000
DTEND;TZID=UTC:20240609T030000
DTSTAMP:20260424T160928
CREATED:20240320T170155Z
LAST-MODIFIED:20240323T212514Z
UID:24384-1717884000-1717902000@laverys.com
SUMMARY:Twitch & Lavery's present: LOOP 002 with  Ben UFO & Marion Hawkes
DESCRIPTION:Twitch and Lavery’s present: Loop 02 with Ben UFO and Marion Hawkes \nHessle Audio label boss and one of the most highly regarded DJs on the planet Ben UFO returns to a Belfast club for the first time since pre-covid! One of our all time favourite guests\, every time Ben plays is an experience! \nSupport from Sound Advice and Ponyhawke legend Marion Hawkes + residents! \nAdvance tickets are essential for this series of events! We’ve done our absolute best to keep ticket prices as low as possible.
URL:https://laverys.com/event/twitch-loop-002-with-ben-ufo-marion-hawkes/
LOCATION:Lavery’s\, 12-18 Bradbury Place\, Belfast\, Antrim\, BT71RS\, United Kingdom
CATEGORIES:DJ
ATTACH;FMTTYPE=image/png:https://laverys.com/wp-content/uploads/2024/03/Ben-UFOsquare-1.png
END:VEVENT
END:VCALENDAR