BEGIN:VCALENDAR
VERSION:2.0
PRODID:-//Lavery&#039;s - ECPv6.15.18//NONSGML v1.0//EN
CALSCALE:GREGORIAN
METHOD:PUBLISH
X-WR-CALNAME:Lavery&#039;s
X-ORIGINAL-URL:https://laverys.com
X-WR-CALDESC:Events for Lavery&#039;s
REFRESH-INTERVAL;VALUE=DURATION:PT1H
X-Robots-Tag:noindex
X-PUBLISHED-TTL:PT1H
BEGIN:VTIMEZONE
TZID:UTC
BEGIN:STANDARD
TZOFFSETFROM:+0000
TZOFFSETTO:+0000
TZNAME:UTC
DTSTART:20220101T000000
END:STANDARD
END:VTIMEZONE
BEGIN:VEVENT
DTSTART;TZID=UTC:20231222T173500
DTEND;TZID=UTC:20231222T213500
DTSTAMP:20260420T163437
CREATED:20230731T125642Z
LAST-MODIFIED:20230731T125759Z
UID:18229-1703266500-1703280900@laverys.com
SUMMARY:Ulster vs Connacht
DESCRIPTION:source=”widget”
URL:https://laverys.com/event/ulster-rugby-v-connacht-dec-2023/
LOCATION:Lavery’s\, 12-18 Bradbury Place\, Belfast\, Antrim\, BT71RS\, United Kingdom
CATEGORIES:Ulster Rugby Ticket & Transport Package
ATTACH;FMTTYPE=image/jpeg:https://laverys.com/wp-content/uploads/2023/07/connacht.jpg
ORGANIZER;CN="Lavery's":MAILTO:info@laverys.com
END:VEVENT
END:VCALENDAR