BEGIN:VCALENDAR
VERSION:2.0
PRODID:-//Lavery&#039;s - ECPv6.15.20//NONSGML v1.0//EN
CALSCALE:GREGORIAN
METHOD:PUBLISH
X-WR-CALNAME:Lavery&#039;s
X-ORIGINAL-URL:https://laverys.com
X-WR-CALDESC:Events for Lavery&#039;s
REFRESH-INTERVAL;VALUE=DURATION:PT1H
X-Robots-Tag:noindex
X-PUBLISHED-TTL:PT1H
BEGIN:VTIMEZONE
TZID:UTC
BEGIN:STANDARD
TZOFFSETFROM:+0000
TZOFFSETTO:+0000
TZNAME:UTC
DTSTART:20220101T000000
END:STANDARD
END:VTIMEZONE
BEGIN:VEVENT
DTSTART;TZID=UTC:20230127T193500
DTEND;TZID=UTC:20230127T193500
DTSTAMP:20260421T170538
CREATED:20221216T160217Z
LAST-MODIFIED:20221217T223812Z
UID:16338-1674848100-1674848100@laverys.com
SUMMARY:Ulster vs DHL Stormers
DESCRIPTION:
URL:https://laverys.com/event/ulster-vs-dhl-stormers/
LOCATION:Lavery’s\, 12-18 Bradbury Place\, Belfast\, Antrim\, BT71RS\, United Kingdom
CATEGORIES:Ulster Rugby Ticket & Transport Package
ATTACH;FMTTYPE=image/jpeg:https://laverys.com/wp-content/uploads/2022/12/rugbyeventsweb.jpg
ORGANIZER;CN="Lavery's":MAILTO:info@laverys.com
END:VEVENT
END:VCALENDAR