BEGIN:VCALENDAR
VERSION:2.0
PRODID:-//Lavery&#039;s - ECPv6.15.18//NONSGML v1.0//EN
CALSCALE:GREGORIAN
METHOD:PUBLISH
X-WR-CALNAME:Lavery&#039;s
X-ORIGINAL-URL:https://laverys.com
X-WR-CALDESC:Events for Lavery&#039;s
REFRESH-INTERVAL;VALUE=DURATION:PT1H
X-Robots-Tag:noindex
X-PUBLISHED-TTL:PT1H
BEGIN:VTIMEZONE
TZID:UTC
BEGIN:STANDARD
TZOFFSETFROM:+0000
TZOFFSETTO:+0000
TZNAME:UTC
DTSTART:20230101T000000
END:STANDARD
END:VTIMEZONE
BEGIN:VEVENT
DTSTART;TZID=UTC:20240921T193000
DTEND;TZID=UTC:20240921T220000
DTSTAMP:20260420T175309
CREATED:20240611T101543Z
LAST-MODIFIED:20240611T101648Z
UID:27481-1726947000-1726956000@laverys.com
SUMMARY:Ulster vs Glasgow (21/09/24)
DESCRIPTION:Join us for the first game of the season!
URL:https://laverys.com/event/ulster-vs-glasgow-ticket-transport-package-21-09-24/
LOCATION:Kingspan Stadium\, Kingspan Stadium\, Ravenhill\, Belfast\, Co.Antrim\, United Kingdom
CATEGORIES:Ulster Rugby Ticket & Transport Package
ATTACH;FMTTYPE=image/jpeg:https://laverys.com/wp-content/uploads/2024/06/Glasgow.jpg
ORGANIZER;CN="Lavery's":MAILTO:info@laverys.com
END:VEVENT
END:VCALENDAR