BEGIN:VCALENDAR
VERSION:2.0
PRODID:-//Lavery&#039;s - ECPv6.15.18//NONSGML v1.0//EN
CALSCALE:GREGORIAN
METHOD:PUBLISH
X-WR-CALNAME:Lavery&#039;s
X-ORIGINAL-URL:https://laverys.com
X-WR-CALDESC:Events for Lavery&#039;s
REFRESH-INTERVAL;VALUE=DURATION:PT1H
X-Robots-Tag:noindex
X-PUBLISHED-TTL:PT1H
BEGIN:VTIMEZONE
TZID:UTC
BEGIN:STANDARD
TZOFFSETFROM:+0000
TZOFFSETTO:+0000
TZNAME:UTC
DTSTART:20240101T000000
END:STANDARD
END:VTIMEZONE
BEGIN:VEVENT
DTSTART;TZID=UTC:20250426T193500
DTEND;TZID=UTC:20250426T220000
DTSTAMP:20260420T163421
CREATED:20240703T131233Z
LAST-MODIFIED:20240703T131233Z
UID:27774-1745696100-1745704800@laverys.com
SUMMARY:Ulster vs Hollywoodbets Sharks Rugby (24/04/25)
DESCRIPTION:
URL:https://laverys.com/event/ulster-vs-hollywoodbets-sharks-rugby-24-04-25/
LOCATION:Kingspan Stadium\, Kingspan Stadium\, Ravenhill\, Belfast\, Co.Antrim\, United Kingdom
CATEGORIES:Ulster Rugby Ticket & Transport Package
ATTACH;FMTTYPE=image/jpeg:https://laverys.com/wp-content/uploads/2024/06/sharks.jpg
ORGANIZER;CN="Lavery's":MAILTO:info@laverys.com
END:VEVENT
END:VCALENDAR