BEGIN:VCALENDAR
VERSION:2.0
PRODID:-//Lavery&#039;s - ECPv6.15.20//NONSGML v1.0//EN
CALSCALE:GREGORIAN
METHOD:PUBLISH
X-WR-CALNAME:Lavery&#039;s
X-ORIGINAL-URL:https://laverys.com
X-WR-CALDESC:Events for Lavery&#039;s
REFRESH-INTERVAL;VALUE=DURATION:PT1H
X-Robots-Tag:noindex
X-PUBLISHED-TTL:PT1H
BEGIN:VTIMEZONE
TZID:UTC
BEGIN:STANDARD
TZOFFSETFROM:+0000
TZOFFSETTO:+0000
TZNAME:UTC
DTSTART:20230101T000000
END:STANDARD
END:VTIMEZONE
BEGIN:VEVENT
DTSTART;TZID=UTC:20240518T173000
DTEND;TZID=UTC:20240518T223000
DTSTAMP:20260422T094846
CREATED:20230731T144132Z
LAST-MODIFIED:20240313T133742Z
UID:18245-1716053400-1716071400@laverys.com
SUMMARY:Ulster vs Leinster
DESCRIPTION:We have been running our Ulster Rugby Ticket & Transport Packag since 2012\, catering to both individual and corporate outings. The package includes a match ticket\, 2 free beers\, and round-trip transportation to Ravenhill. Additionally\, there are options for pool packages and different ticket levels such as “The Spectator\,” “The Player\,” “The Captain\,” and “The Team\,” each providing various amenities like pre-match food or pool table access. We take great pride in the level of organisation\, value\, and convenience\, making it a popular choice for experiencing Ulster Rugby matches.
URL:https://laverys.com/event/ulster-vs-leinster-may-2024/
LOCATION:Lavery’s\, 12-18 Bradbury Place\, Belfast\, Antrim\, BT71RS\, United Kingdom
CATEGORIES:Ulster Rugby Ticket & Transport Package
ATTACH;FMTTYPE=image/png:https://laverys.com/wp-content/uploads/2023/07/Leinsterescond.png
ORGANIZER;CN="Lavery's":MAILTO:info@laverys.com
END:VEVENT
END:VCALENDAR