BEGIN:VCALENDAR
VERSION:2.0
PRODID:-//Lavery&#039;s - ECPv6.15.20//NONSGML v1.0//EN
CALSCALE:GREGORIAN
METHOD:PUBLISH
X-WR-CALNAME:Lavery&#039;s
X-ORIGINAL-URL:https://laverys.com
X-WR-CALDESC:Events for Lavery&#039;s
REFRESH-INTERVAL;VALUE=DURATION:PT1H
X-Robots-Tag:noindex
X-PUBLISHED-TTL:PT1H
BEGIN:VTIMEZONE
TZID:UTC
BEGIN:STANDARD
TZOFFSETFROM:+0000
TZOFFSETTO:+0000
TZNAME:UTC
DTSTART:20220101T000000
END:STANDARD
END:VTIMEZONE
BEGIN:VEVENT
DTSTART;TZID=UTC:20230101T170000
DTEND;TZID=UTC:20230101T220000
DTSTAMP:20260421T172307
CREATED:20221216T155621Z
LAST-MODIFIED:20221229T162704Z
UID:16332-1672592400-1672610400@laverys.com
SUMMARY:Ulster vs Munster
DESCRIPTION:
URL:https://laverys.com/event/ulster-vs-munster-1st-jan-2023/
CATEGORIES:Ulster Rugby Ticket & Transport Package
ATTACH;FMTTYPE=image/jpeg:https://laverys.com/wp-content/uploads/2022/12/169rugbysoldout.jpg
END:VEVENT
END:VCALENDAR