BEGIN:VCALENDAR
VERSION:2.0
PRODID:-//Lavery&#039;s - ECPv6.15.18//NONSGML v1.0//EN
CALSCALE:GREGORIAN
METHOD:PUBLISH
X-WR-CALNAME:Lavery&#039;s
X-ORIGINAL-URL:https://laverys.com
X-WR-CALDESC:Events for Lavery&#039;s
REFRESH-INTERVAL;VALUE=DURATION:PT1H
X-Robots-Tag:noindex
X-PUBLISHED-TTL:PT1H
BEGIN:VTIMEZONE
TZID:UTC
BEGIN:STANDARD
TZOFFSETFROM:+0000
TZOFFSETTO:+0000
TZNAME:UTC
DTSTART:20240101T000000
END:STANDARD
END:VTIMEZONE
BEGIN:VEVENT
DTSTART;TZID=UTC:20250207T193500
DTEND;TZID=UTC:20250207T220000
DTSTAMP:20260420T071312
CREATED:20240703T115044Z
LAST-MODIFIED:20240703T115321Z
UID:27766-1738956900-1738965600@laverys.com
SUMMARY:Ulster vs Queensland Reds (07/02/25)
DESCRIPTION:
URL:https://laverys.com/event/ulster-vs-queensland-reds-rugby-07-02-25/
LOCATION:Kingspan Stadium\, Kingspan Stadium\, Ravenhill\, Belfast\, Co.Antrim\, United Kingdom
CATEGORIES:Ulster Rugby Ticket & Transport Package
ATTACH;FMTTYPE=image/png:https://laverys.com/wp-content/uploads/2024/05/reds.png
ORGANIZER;CN="Lavery's":MAILTO:info@laverys.com
END:VEVENT
END:VCALENDAR