BEGIN:VCALENDAR
VERSION:2.0
PRODID:-//Lavery&#039;s - ECPv6.15.20//NONSGML v1.0//EN
CALSCALE:GREGORIAN
METHOD:PUBLISH
X-WR-CALNAME:Lavery&#039;s
X-ORIGINAL-URL:https://laverys.com
X-WR-CALDESC:Events for Lavery&#039;s
REFRESH-INTERVAL;VALUE=DURATION:PT1H
X-Robots-Tag:noindex
X-PUBLISHED-TTL:PT1H
BEGIN:VTIMEZONE
TZID:UTC
BEGIN:STANDARD
TZOFFSETFROM:+0000
TZOFFSETTO:+0000
TZNAME:UTC
DTSTART:20240101T000000
END:STANDARD
END:VTIMEZONE
BEGIN:VEVENT
DTSTART;TZID=UTC:20250919T210000
DTEND;TZID=UTC:20250920T011500
DTSTAMP:20260423T220216
CREATED:20250902T130420Z
LAST-MODIFIED:20250902T130420Z
UID:10003936-1758315600-1758330900@laverys.com
SUMMARY:Pete Gibney
DESCRIPTION:Pete is one of the most established DJs in Belfast. Having co-founded one of Belfast’s biggest club nights Plain Sailing\, we’re very lucky to have him as one of our residents.
URL:https://laverys.com/event/pete-gibney-2/2025-09-19/
LOCATION:Lavery’s\, 12-18 Bradbury Place\, Belfast\, Antrim\, BT71RS\, United Kingdom
CATEGORIES:DJ
ATTACH;FMTTYPE=image/jpeg:https://laverys.com/wp-content/uploads/2024/10/Screenshot-2024-10-29-at-16.45.06-e1767883498784.jpg
ORGANIZER;CN="Lavery's":MAILTO:info@laverys.com
END:VEVENT
BEGIN:VEVENT
DTSTART;TZID=UTC:20250919T210000
DTEND;TZID=UTC:20250920T011500
DTSTAMP:20260423T220216
CREATED:20250902T135408Z
LAST-MODIFIED:20250902T135408Z
UID:10003944-1758315600-1758330900@laverys.com
SUMMARY:Uncle Moe
DESCRIPTION:Andrew Moore co-founded the game-changing collective Plain Sailing\, one of Belfast’s best known club nights.\nAlongside Peter Gibney\, the duo have been throwing parties in Belfast for the last few years\, inviting a multi-faceted roster of artists for their debuts in the city – including Barker\, D.Tiffany\, Riz La Teef\, LCY & Interplanetary Criminal – whilst honing their craft as two of the city’s most exciting DJ pairings.\nNow under the alias of Uncle Mo\, you will have seen him playing at AVA Festival\, contributed a mix for Feel My Bicep’s reputable podcast series\, appeared on Dublin Digital Radio & BBC ATL Introducing and last year put out a mix on London record label Lobster Theremin’s respected podcast series.\nDuring the pandemic Andrew and Peter transformed Plain Sailing into an online-zine as a way of continuing to support the artists they loved during a time when gigs were not possible. They have since interviewed artists such as Mor Elian\, Kettama\, Cromby\, EMA\, Sputnik One and more\, and have introduced new sounds and listening experiences from Ireland and beyond through their Plain Sailing Debuts track series and Making Waves video series.
URL:https://laverys.com/event/uncle-moe-6/2025-09-19/
LOCATION:Lavery’s\, 12-18 Bradbury Place\, Belfast\, Antrim\, BT71RS\, United Kingdom
CATEGORIES:DJ
ATTACH;FMTTYPE=image/jpeg:https://laverys.com/wp-content/uploads/2024/03/291A5018-2-e1767876652506.jpg
ORGANIZER;CN="Lavery's":MAILTO:info@laverys.com
END:VEVENT
BEGIN:VEVENT
DTSTART;TZID=UTC:20250919T210000
DTEND;TZID=UTC:20250920T011500
DTSTAMP:20260423T220216
CREATED:20250915T162054Z
LAST-MODIFIED:20250915T162054Z
UID:10003967-1758315600-1758330900@laverys.com
SUMMARY:Matcha
DESCRIPTION:Matcha has been crafting genre-blending sets that weave house\, prog\, and italo into her signature “alien & critter coded” sound. In less than a year\, she’s become a line up regular\, recruited by AVA\, Shine\, Ponyhawke and more\, supporting artists including DJ Heartstring\, Holly Lester and Cartin. Inspired by the likes of Peach\, Shanti Celeste\, Aldonna and Angel D’lite\, her playful and quirky style remains distinctly her own.
URL:https://laverys.com/event/matcha/
LOCATION:Lavery’s\, 12-18 Bradbury Place\, Belfast\, Antrim\, BT71RS\, United Kingdom
CATEGORIES:DJ
ATTACH;FMTTYPE=image/jpeg:https://laverys.com/wp-content/uploads/2025/09/Screenshot-2025-09-15-at-16.03.02-e1757953223809.jpg
ORGANIZER;CN="Lavery's":MAILTO:info@laverys.com
END:VEVENT
BEGIN:VEVENT
DTSTART;TZID=UTC:20250920T210000
DTEND;TZID=UTC:20250921T011500
DTSTAMP:20260423T220216
CREATED:20250902T131246Z
LAST-MODIFIED:20250902T131246Z
UID:10003938-1758402000-1758417300@laverys.com
SUMMARY:Pete Woods
DESCRIPTION:Having spent many years playing at all of the major local night clubs (alongside local hard-hitters and national acts alike)\, holding multiple residencies\, DJing special events and promoting his own shows\, Pete has had a lot of time to develop his sound.
URL:https://laverys.com/event/pete-woods-13/2025-09-20/
LOCATION:Lavery’s\, 12-18 Bradbury Place\, Belfast\, Antrim\, BT71RS\, United Kingdom
CATEGORIES:DJ
ATTACH;FMTTYPE=image/jpeg:https://laverys.com/wp-content/uploads/2025/05/Screenshot-2025-05-26-at-15.17.42-e1748269169139.jpg
ORGANIZER;CN="Lavery's":MAILTO:info@laverys.com
END:VEVENT
BEGIN:VEVENT
DTSTART;TZID=UTC:20250920T210000
DTEND;TZID=UTC:20250921T011500
DTSTAMP:20260423T220216
CREATED:20250902T140634Z
LAST-MODIFIED:20250902T140634Z
UID:10003947-1758402000-1758417300@laverys.com
SUMMARY:David Gilmore
DESCRIPTION:David has had a lot of time to develop his sound. For him\, it’s all about mood and a deep\, hypnotic groove… playing those tracks that get you tapping your feet and nodding your head without you realising it.
URL:https://laverys.com/event/david-gilmore-6/2025-09-20/
LOCATION:Lavery’s\, 12-18 Bradbury Place\, Belfast\, Antrim\, BT71RS\, United Kingdom
CATEGORIES:DJ
ATTACH;FMTTYPE=image/jpeg:https://laverys.com/wp-content/uploads/2024/03/291A5197-e1756821911736.jpg
ORGANIZER;CN="Lavery's":MAILTO:info@laverys.com
END:VEVENT
BEGIN:VEVENT
DTSTART;TZID=UTC:20250920T213000
DTEND;TZID=UTC:20250921T000000
DTSTAMP:20260423T220216
CREATED:20250916T153028Z
LAST-MODIFIED:20250916T153028Z
UID:10003970-1758403800-1758412800@laverys.com
SUMMARY:The Vibes
DESCRIPTION:The Vibes are an 8-piece soulful reggae band based in Belfast. Formed in 2014 they immediately began a monthly residency in The Belfast Empire. The band worked as support act for legends like Lee “Scratch” Perry and The Specials\, as well as New York ska heroes The Slackers and The Toasters. The Vibes released their debut album Workin’ in 2017 but were soon forced into hiatus\nwhen trombone player Willie McLean suffered a severe stroke\, the band gradually returned to do some small shows in late 2018 and 2019.\nAfter another enforced hiatus in 2020/21\, The Vibes returned to the studio in 2022 to record a second album\, The Vibes Play Don Drummond\, consisting of 9 tracks all written by Jamaican trombone innovator Don Drummond of The Skatalites. The album was conceived by Vibes trombonist Willie McLean with song arrangements by UK brass icon Dennis Rollins (Jamiroquai\, Maceo Parker\, Blur). On this album The Vibes pay homage to some of the greatest early ska music with 7 instrumentals and 2 songs including Simmer Down\, Occupation and Latin Goes Ska. With another album worth of original songs still to be recorded\, the band also do a wide array of covers\, some reggae songs by the likes of Jimmy Cliff and Alton Ellis\, but also lot of non-reggae\nsongs from artists like Bob Dylan\, Sam Cooke\, Arethra Franklin and many others\, given the reggae treatment.
URL:https://laverys.com/event/the-vibes/
LOCATION:Lavery’s\, 12-18 Bradbury Place\, Belfast\, Antrim\, BT71RS\, United Kingdom
CATEGORIES:Live at Lavery's
ATTACH;FMTTYPE=image/jpeg:https://laverys.com/wp-content/uploads/2025/09/Screenshot-2025-09-16-at-16.27.45-e1767355781429.jpg
ORGANIZER;CN="Lavery's":MAILTO:info@laverys.com
END:VEVENT
END:VCALENDAR