BEGIN:VCALENDAR
VERSION:2.0
PRODID:-//Lavery&#039;s - ECPv6.15.20//NONSGML v1.0//EN
CALSCALE:GREGORIAN
METHOD:PUBLISH
X-WR-CALNAME:Lavery&#039;s
X-ORIGINAL-URL:https://laverys.com
X-WR-CALDESC:Events for Lavery&#039;s
REFRESH-INTERVAL;VALUE=DURATION:PT1H
X-Robots-Tag:noindex
X-PUBLISHED-TTL:PT1H
BEGIN:VTIMEZONE
TZID:UTC
BEGIN:STANDARD
TZOFFSETFROM:+0000
TZOFFSETTO:+0000
TZNAME:UTC
DTSTART:20240101T000000
END:STANDARD
END:VTIMEZONE
BEGIN:VEVENT
DTSTART;TZID=UTC:20251031T210000
DTEND;TZID=UTC:20251031T210000
DTSTAMP:20260422T093316
CREATED:20251013T181824Z
LAST-MODIFIED:20251013T181927Z
UID:10003973-1761944400-1761944400@laverys.com
SUMMARY:Mince X Twistd with Dylan Fogarty // Halloween Night
DESCRIPTION:Its halloween so we know things where going to get serious. The holy trinity has landed for the most unholy of nights of the year. The Mince collective have found themselves in a Twistd collaboration bringing the Irish techno Prince Dylan Fogarty. \nA collaboration for the ages. Bringing together the Mince collective DJ’s Thom & Chanty with Twisted’s Oisinok & Keeva G along with Dylan Fogarty. It’s going to be utterly Iconic!!! \nThe most un-immaculate costumes are hugely encouraged. \nMore from Dylan: \nDubbed the prince of Irish techno\, his reputation is built not just on his studio output but his skill behind the decks. Whether going B2B with Tafkamp and Sunil Sharpe or commanding dance floors at London’s Fabric\, Paris’s Rex Club\, Berlin’s RSO\, and Madrid’s Fabrik\, his approach is wide-ranging and eclectic\, taking dancers on a journey through his extensive collection of music.\nEmbracing the playful\, loop-driven approach of ’00s techno while weaving in elements of house\, garage\, and dub. His sound-a rich tapestry of groove\, swing\, and unadulterated funk\, channels the golden era of techno\, striking a balance between Stockholm and Napoli while shaping the next generation of the genre in Ireland and beyond.
URL:https://laverys.com/event/mince-x-twistd-with-dylan-fogarty-halloween-night/
LOCATION:Lavery’s\, 12-18 Bradbury Place\, Belfast\, Antrim\, BT71RS\, United Kingdom
CATEGORIES:DJ
ATTACH;FMTTYPE=image/avif:https://laverys.com/wp-content/uploads/2025/10/2115406_6fd80f2a_mince-x-twisted_eflyer_th.avif
ORGANIZER;CN="Lavery's":MAILTO:info@laverys.com
END:VEVENT
BEGIN:VEVENT
DTSTART;TZID=UTC:20251031T210000
DTEND;TZID=UTC:20251101T020000
DTSTAMP:20260422T093316
CREATED:20251008T132555Z
LAST-MODIFIED:20251008T134315Z
UID:10003972-1761944400-1761962400@laverys.com
SUMMARY:Halloween 2025
DESCRIPTION:🎃 Lavery’s Halloween 2025 🎃 We’ve got a multi-level Halloween experience like no other — a night of bone-rattling beats\, eerie energy\, and ghoulish fun lurking around every corner. \n🎛 The Pool Room – Faux DJs Our longtime residents return to the decks for a Halloween takeover packed with high-voltage energy\, massive drops\, and relentless party vibes. Expect chaos (the good kind). \n🌒 The Back Bar – Black Moon Dog Live and loud! Black Moon Dog bring their signature heavy grooves and dark-edged rock ’n’ roll to the Back Bar — a perfect soundtrack for the witching hour. \n🪵 The Woodworkers – Conleth Forde An ever-reliable Woodworkers favourite\, Conleth Forde sets the mood with a spellbinding mix of funk\, indie\, and all things danceable. \n🩸 Middle Floor – Mince x Twisted w/ Dylan Fogarty A special\, separately ticketed event. Belfast’s powerhouse party brands Mince and Twisted join forces with Dylan Fogarty for a no-holds-barred night of club heat\, queer energy\, and spine-tingling techno. \n👻 Costume Clash! Show up in your spookiest\, weirdest\, or most glamorous get-up — with prizes for the best dressed\, it’s your time to shine (or haunt). \n🔥 This isn’t just another Halloween party — it’s the Halloween party. The one we’ve been dying to tell you about. \nSo rally your coven\, pick your poisons\, and prepare for a multi-floor fright fest that’ll have the spirits dancing till late. \n🦇 Book your tickets now — if you dare.
URL:https://laverys.com/event/halloween-2025/
LOCATION:Lavery’s\, 12-18 Bradbury Place\, Belfast\, Antrim\, BT71RS\, United Kingdom
CATEGORIES:DJ
ATTACH;FMTTYPE=image/jpeg:https://laverys.com/wp-content/uploads/2025/10/INSTA-2_Lavs-Halloween-2025-scaled.jpg
ORGANIZER;CN="Lavery's":MAILTO:info@laverys.com
END:VEVENT
END:VCALENDAR