BEGIN:VCALENDAR
VERSION:2.0
PRODID:-//Lavery&#039;s - ECPv6.15.20//NONSGML v1.0//EN
CALSCALE:GREGORIAN
METHOD:PUBLISH
X-ORIGINAL-URL:https://laverys.com
X-WR-CALDESC:Events for Lavery&#039;s
REFRESH-INTERVAL;VALUE=DURATION:PT1H
X-Robots-Tag:noindex
X-PUBLISHED-TTL:PT1H
BEGIN:VTIMEZONE
TZID:UTC
BEGIN:STANDARD
TZOFFSETFROM:+0000
TZOFFSETTO:+0000
TZNAME:UTC
DTSTART:20250101T000000
END:STANDARD
END:VTIMEZONE
BEGIN:VEVENT
DTSTART;TZID=UTC:20260221T210000
DTEND;TZID=UTC:20260222T011500
DTSTAMP:20260423T205021
CREATED:20260218T114314Z
LAST-MODIFIED:20260218T114314Z
UID:10004449-1771707600-1771722900@laverys.com
SUMMARY:Resident DJs: Pete Woods
DESCRIPTION:Having spent many years playing at all of the major local night clubs (alongside local hard-hitters and national acts alike)\, holding multiple residencies\, DJing special events and promoting his own shows\, Pete has had a lot of time to develop his sound.
URL:https://laverys.com/event/resident-djs-pete-woods-3/
LOCATION:Lavery’s\, 12-18 Bradbury Place\, Belfast\, Antrim\, BT71RS\, United Kingdom
CATEGORIES:DJ
ATTACH;FMTTYPE=image/jpeg:https://laverys.com/wp-content/uploads/2024/03/Paddys-Day-2024-43-e1767884057334.jpg
ORGANIZER;CN="Lavery's":MAILTO:info@laverys.com
END:VEVENT
BEGIN:VEVENT
DTSTART;TZID=UTC:20260221T210000
DTEND;TZID=UTC:20260222T011500
DTSTAMP:20260423T205021
CREATED:20260218T114630Z
LAST-MODIFIED:20260218T114630Z
UID:10004450-1771707600-1771722900@laverys.com
SUMMARY:Resident DJs: David Gilmore
DESCRIPTION:David has had a lot of time to develop his sound. For him\, it’s all about mood and a deep\, hypnotic groove… playing those tracks that get you tapping your feet and nodding your head without you realising it.
URL:https://laverys.com/event/resident-djs-david-gilmore-2/
LOCATION:Lavery’s\, 12-18 Bradbury Place\, Belfast\, Antrim\, BT71RS\, United Kingdom
CATEGORIES:DJ
ATTACH;FMTTYPE=image/png:https://laverys.com/wp-content/uploads/2026/01/Screenshot-2026-01-20-at-15.59.33-e1768924866434.png
ORGANIZER;CN="Lavery's":MAILTO:info@laverys.com
END:VEVENT
BEGIN:VEVENT
DTSTART;TZID=UTC:20260221T220000
DTEND;TZID=UTC:20260222T003000
DTSTAMP:20260423T205021
CREATED:20260211T123027Z
LAST-MODIFIED:20260215T191725Z
UID:10004168-1771711200-1771720200@laverys.com
SUMMARY:Live at Lavery's: Claire McCartney & Charlie Hanlon
DESCRIPTION:Claire McCartney is a vocalist and performer\, having trained under well-known figures within the arts and music sphere in Northern Ireland.\nAs a vocalist & keyboardist\, Claire holds a residency in Belfast Establishment\, Aether & Echo and is a member of The Unholy Gospel Band.
URL:https://laverys.com/event/laverys-live-claire-mccartney-charlie-hanlon/
LOCATION:Lavery’s\, 12-18 Bradbury Place\, Belfast\, Antrim\, BT71RS\, United Kingdom
CATEGORIES:Live at Lavery's
ATTACH;FMTTYPE=image/png:https://laverys.com/wp-content/uploads/2026/02/Screenshot-2026-02-11-at-12.20.16-e1770812910997.png
ORGANIZER;CN="Lavery's":MAILTO:info@laverys.com
END:VEVENT
BEGIN:VEVENT
DTSTART;TZID=UTC:20260222T151000
DTEND;TZID=UTC:20260222T171000
DTSTAMP:20260423T205021
CREATED:20260106T145340Z
LAST-MODIFIED:20260218T162726Z
UID:10004063-1771773000-1771780200@laverys.com
SUMMARY:France vs Italy – Six Nations 2026
DESCRIPTION:Join us at Lavery’s for the Six Nations. \nDrink and food packages available\, plus the best seats in the house for every match. 🏉🍻
URL:https://laverys.com/event/france-vs-italy-six-nations-2026/
LOCATION:Antrim
CATEGORIES:Six Nations
ATTACH;FMTTYPE=image/jpeg:https://laverys.com/wp-content/uploads/2026/01/preview-8.jpg
END:VEVENT
BEGIN:VEVENT
DTSTART;TZID=UTC:20260222T190000
DTEND;TZID=UTC:20260222T203000
DTSTAMP:20260423T205021
CREATED:20260106T131451Z
LAST-MODIFIED:20260106T131451Z
UID:10004041-1771786800-1771792200@laverys.com
SUMMARY:Belfast Improv
DESCRIPTION:Improvisation is the art of spontaneously performing comedy and theatre without a script. \n\nImprov shows come in many flavours\, but at Belfast Improv our shows are typically ‘long-form’\, which means that we perform 20 min – 2 hour shows with an overarching narrative or theme.
URL:https://laverys.com/event/belfast-improv-3/2026-02-22/
LOCATION:Lavery’s\, 12-18 Bradbury Place\, Belfast\, Antrim\, BT71RS\, United Kingdom
CATEGORIES:Belfast Improv
ATTACH;FMTTYPE=image/jpeg:https://laverys.com/wp-content/uploads/2026/01/291A0420-Enhanced-NR-copy-2-e1767704772347.jpg
ORGANIZER;CN="Lavery's":MAILTO:info@laverys.com
END:VEVENT
BEGIN:VEVENT
DTSTART;TZID=UTC:20260222T190000
DTEND;TZID=UTC:20260222T210000
DTSTAMP:20260423T205021
CREATED:20260106T134522Z
LAST-MODIFIED:20260215T192227Z
UID:10004053-1771786800-1771794000@laverys.com
SUMMARY:Open Trad: Belfast Session Guide
DESCRIPTION:Belfast’s best traditional music session. Join the Belfast Session Guide open trad sessions every Sunday in our Public Bar.
URL:https://laverys.com/event/belfast-session-guide-12/2026-02-22/
LOCATION:Lavery’s\, 12-18 Bradbury Place\, Belfast\, Antrim\, BT71RS\, United Kingdom
CATEGORIES:Live at Lavery's
ATTACH;FMTTYPE=image/jpeg:https://laverys.com/wp-content/uploads/2026/01/291A4929-Enhanced-NR-copy-e1767707011188.jpg
ORGANIZER;CN="Lavery's":MAILTO:info@laverys.com
END:VEVENT
END:VCALENDAR