BEGIN:VCALENDAR
VERSION:2.0
PRODID:-//Lavery&#039;s - ECPv6.15.20//NONSGML v1.0//EN
CALSCALE:GREGORIAN
METHOD:PUBLISH
X-WR-CALNAME:Lavery&#039;s
X-ORIGINAL-URL:https://laverys.com
X-WR-CALDESC:Events for Lavery&#039;s
REFRESH-INTERVAL;VALUE=DURATION:PT1H
X-Robots-Tag:noindex
X-PUBLISHED-TTL:PT1H
BEGIN:VTIMEZONE
TZID:UTC
BEGIN:STANDARD
TZOFFSETFROM:+0000
TZOFFSETTO:+0000
TZNAME:UTC
DTSTART:20250101T000000
END:STANDARD
END:VTIMEZONE
BEGIN:VEVENT
DTSTART;TZID=UTC:20260226T210000
DTEND;TZID=UTC:20260227T011500
DTSTAMP:20260421T200547
CREATED:20260108T121026Z
LAST-MODIFIED:20260215T162843Z
UID:10004445-1772139600-1772154900@laverys.com
SUMMARY:Resident DJs - Rebecca Nicell
DESCRIPTION:Rebecca has developed her own unique sound within our residents. Regardless of genre\, tempo\, style or release date\, Becca will get you moving!
URL:https://laverys.com/event/resident-djs-rebecca-nicell/2026-02-26/
LOCATION:Lavery’s\, 12-18 Bradbury Place\, Belfast\, Antrim\, BT71RS\, United Kingdom
CATEGORIES:DJ
ATTACH;FMTTYPE=image/jpeg:https://laverys.com/wp-content/uploads/2026/01/Screenshot-2026-01-07-at-12.25.47-e1767790048707.jpg
ORGANIZER;CN="Lavery's":MAILTO:info@laverys.com
END:VEVENT
BEGIN:VEVENT
DTSTART;TZID=UTC:20260227T180000
DTEND;TZID=UTC:20260227T210000
DTSTAMP:20260421T200547
CREATED:20260227T161809Z
LAST-MODIFIED:20260227T161809Z
UID:10004453-1772215200-1772226000@laverys.com
SUMMARY:Lavery's FM presents Iron & Wine
DESCRIPTION:Lavery’s FM is back tongiht with all things Sam Beam. \nWe’ll be playing Iron & Wine’s brand new album Hen’s Teeth. Released on Sub Pop\, Hen’s Teeth was unashamedly inspired by Van Morrison’s album Astral Weeks\, with Beam himself noting it as his “go to“. \nBefore playing the latest album we’ll be playing some of the back catalog; Our Endless Numbered Days followed up by The Shepherd’s Dog. \nThree records. Three eras. One of the most consistent songwriters of the last 20 years.
URL:https://laverys.com/event/laverys-fm-presents-iron-wine/
LOCATION:Lavery’s\, 12-18 Bradbury Place\, Belfast\, Antrim\, BT71RS\, United Kingdom
CATEGORIES:Lavery's FM
ATTACH;FMTTYPE=image/jpeg:https://laverys.com/wp-content/uploads/2026/02/14141094-3824254806.jpg
ORGANIZER;CN="Lavery's":MAILTO:info@laverys.com
END:VEVENT
BEGIN:VEVENT
DTSTART;TZID=UTC:20260227T220000
DTEND;TZID=UTC:20260228T003000
DTSTAMP:20260421T200547
CREATED:20260211T124712Z
LAST-MODIFIED:20260215T191903Z
UID:10004169-1772229600-1772238600@laverys.com
SUMMARY:Live at Lavery's: Gavin Corey
DESCRIPTION:For anyone who hasn’t heard this genius with a guitar you’re in for a real treat!
URL:https://laverys.com/event/laverys-live-gavin-corey/
LOCATION:Lavery’s\, 12-18 Bradbury Place\, Belfast\, Antrim\, BT71RS\, United Kingdom
CATEGORIES:Live at Lavery's
ATTACH;FMTTYPE=image/png:https://laverys.com/wp-content/uploads/2026/02/Screenshot-2026-02-11-at-12.38.04-e1770813935603.png
ORGANIZER;CN="Lavery's":MAILTO:info@laverys.com
END:VEVENT
END:VCALENDAR