BEGIN:VCALENDAR
VERSION:2.0
PRODID:-//Lavery&#039;s - ECPv6.15.20//NONSGML v1.0//EN
CALSCALE:GREGORIAN
METHOD:PUBLISH
X-ORIGINAL-URL:https://laverys.com
X-WR-CALDESC:Events for Lavery&#039;s
REFRESH-INTERVAL;VALUE=DURATION:PT1H
X-Robots-Tag:noindex
X-PUBLISHED-TTL:PT1H
BEGIN:VTIMEZONE
TZID:UTC
BEGIN:STANDARD
TZOFFSETFROM:+0000
TZOFFSETTO:+0000
TZNAME:UTC
DTSTART:20250101T000000
END:STANDARD
END:VTIMEZONE
BEGIN:VEVENT
DTSTART;TZID=UTC:20260228T210000
DTEND;TZID=UTC:20260308T011500
DTSTAMP:20260421T182924
CREATED:20260219T111811Z
LAST-MODIFIED:20260219T111811Z
UID:10004452-1772312400-1772932500@laverys.com
SUMMARY:Resident DJs: Mark Johnston
DESCRIPTION:Mark has been a resident for more than 10 years. One half of the infamous Faux\, Mark has been one of the most influential DJs to grace our decks\, shaping the sound and atmosphere that people now associate with Lavery’s and The Woodworkers.
URL:https://laverys.com/event/resident-djs-mark-johnston/
LOCATION:Lavery’s\, 12-18 Bradbury Place\, Belfast\, Antrim\, BT71RS\, United Kingdom
CATEGORIES:DJ
ATTACH;FMTTYPE=image/jpeg:https://laverys.com/wp-content/uploads/2024/03/Paddys-Day-2024-42.jpg
ORGANIZER;CN="Lavery's":MAILTO:info@laverys.com
END:VEVENT
BEGIN:VEVENT
DTSTART;TZID=UTC:20260307T220000
DTEND;TZID=UTC:20260308T003000
DTSTAMP:20260421T182924
CREATED:20260306T150624Z
LAST-MODIFIED:20260306T150624Z
UID:10004456-1772920800-1772929800@laverys.com
SUMMARY:Lavery's Live: Donal Scullion & The House Band
DESCRIPTION:One of Belfast’s most talented musicians\, Donal Scullion of the NI Soul Troop\, Unholy Gospel Band and The Vibes\, brings along with him his full house band laying a mix of originals and unexpected covers.
URL:https://laverys.com/event/laverys-live-donal-scullion-the-house-band/
LOCATION:Lavery’s\, 12-18 Bradbury Place\, Belfast\, Antrim\, BT71RS\, United Kingdom
CATEGORIES:Live at Lavery's
ATTACH;FMTTYPE=image/jpeg:https://laverys.com/wp-content/uploads/2025/09/Screenshot-2025-09-16-at-16.27.45-e1767355781429.jpg
ORGANIZER;CN="Lavery's":MAILTO:info@laverys.com
END:VEVENT
BEGIN:VEVENT
DTSTART;TZID=UTC:20260308T080000
DTEND;TZID=UTC:20260308T170000
DTSTAMP:20260421T182924
CREATED:20260106T131451Z
LAST-MODIFIED:20260106T131451Z
UID:10004043-1772956800-1772989200@laverys.com
SUMMARY:Belfast Improv
DESCRIPTION:Improvisation is the art of spontaneously performing comedy and theatre without a script. \n\nImprov shows come in many flavours\, but at Belfast Improv our shows are typically ‘long-form’\, which means that we perform 20 min – 2 hour shows with an overarching narrative or theme.
URL:https://laverys.com/event/belfast-improv-3/2026-03-08/
LOCATION:Lavery’s\, 12-18 Bradbury Place\, Belfast\, Antrim\, BT71RS\, United Kingdom
CATEGORIES:Belfast Improv
ATTACH;FMTTYPE=image/jpeg:https://laverys.com/wp-content/uploads/2026/01/291A0420-Enhanced-NR-copy-2-e1767704772347.jpg
ORGANIZER;CN="Lavery's":MAILTO:info@laverys.com
END:VEVENT
BEGIN:VEVENT
DTSTART;TZID=UTC:20260308T190000
DTEND;TZID=UTC:20260308T210000
DTSTAMP:20260421T182924
CREATED:20260106T134522Z
LAST-MODIFIED:20260215T192227Z
UID:10004055-1772996400-1773003600@laverys.com
SUMMARY:Open Trad: Belfast Session Guide
DESCRIPTION:Belfast’s best traditional music session. Join the Belfast Session Guide open trad sessions every Sunday in our Public Bar.
URL:https://laverys.com/event/belfast-session-guide-12/2026-03-08/
LOCATION:Lavery’s\, 12-18 Bradbury Place\, Belfast\, Antrim\, BT71RS\, United Kingdom
CATEGORIES:Live at Lavery's
ATTACH;FMTTYPE=image/jpeg:https://laverys.com/wp-content/uploads/2026/01/291A4929-Enhanced-NR-copy-e1767707011188.jpg
ORGANIZER;CN="Lavery's":MAILTO:info@laverys.com
END:VEVENT
END:VCALENDAR