BEGIN:VCALENDAR
VERSION:2.0
PRODID:-//Lavery&#039;s - ECPv6.15.18//NONSGML v1.0//EN
CALSCALE:GREGORIAN
METHOD:PUBLISH
X-ORIGINAL-URL:https://laverys.com
X-WR-CALDESC:Events for Lavery&#039;s
REFRESH-INTERVAL;VALUE=DURATION:PT1H
X-Robots-Tag:noindex
X-PUBLISHED-TTL:PT1H
BEGIN:VTIMEZONE
TZID:UTC
BEGIN:STANDARD
TZOFFSETFROM:+0000
TZOFFSETTO:+0000
TZNAME:UTC
DTSTART:20250101T000000
END:STANDARD
END:VTIMEZONE
BEGIN:VEVENT
DTSTART;TZID=UTC:20260312T193000
DTEND;TZID=UTC:20260312T233000
DTSTAMP:20260420T140411
CREATED:20250828T161242Z
LAST-MODIFIED:20250828T161258Z
UID:10000336-1773343800-1773358200@laverys.com
SUMMARY:Lavery's Comedy Club - Thursday 12th March 2026
DESCRIPTION:Colin Geddis has curated one of the funniest comedy nights Belfast has to offer. He transforms our middle floor into an intimate\, side-splittingly funny evening with guaranteed laughs; get down early to avoid sitting in the front row.
URL:https://laverys.com/event/laveryscomedyclub-thursday-12th-mar-2026/
LOCATION:Tom’s\, 12-18 Bradbury Place\, Belfast\, Antrim\, BT71RS\, United Kingdom
CATEGORIES:Lavery's Comedy Club
ATTACH;FMTTYPE=image/png:https://laverys.com/wp-content/uploads/2023/02/Facebook-Event2-1.png
ORGANIZER;CN="Both Barrels Comedy":MAILTO:comedy@laverys.com
END:VEVENT
BEGIN:VEVENT
DTSTART;TZID=UTC:20260312T210000
DTEND;TZID=UTC:20260313T001500
DTSTAMP:20260420T140411
CREATED:20260309T095545Z
LAST-MODIFIED:20260324T153642Z
UID:10004464-1773349200-1773360900@laverys.com
SUMMARY:Resident DJs: Andrew Moore
DESCRIPTION:Andrew Moore co-founded the game-changing collective Plain Sailing\, one of Belfast’s best known club nights. Alongside Peter Gibney\, the duo have been throwing parties in Belfast for the last few years\, inviting a multi-faceted roster of artists for their debuts in the city – including Barker\, D.Tiffany\, Riz La Teef\, LCY & Interplanetary Criminal – whilst honing their craft as two of the city’s most exciting DJ pairings. Now under the alias of Uncle Moe\, you will have seen him playing at AVA Festival\, contributed a mix for Feel My Bicep’s reputable podcast series\, appeared on Dublin Digital Radio & BBC ATL Introducing and last year put out a mix on London record label Lobster Theremin’s respected podcast series. During the pandemic Andrew and Peter transformed Plain Sailing into an online-zine as a way of continuing to support the artists they loved during a time when gigs were not possible. They have since interviewed artists such as Mor Elian\, Kettama\, Cromby\, EMA\, Sputnik One and more\, and have introduced new sounds and listening experiences from Ireland and beyond through their Plain Sailing Debuts track series and Making Waves video series.
URL:https://laverys.com/event/resident-djs-andrew-moore-3/2026-03-12/
LOCATION:Lavery’s\, 12-18 Bradbury Place\, Belfast\, Antrim\, BT71RS\, United Kingdom
CATEGORIES:DJ
ATTACH;FMTTYPE=image/png:https://laverys.com/wp-content/uploads/2026/03/Screenshot-2026-03-09-at-09.53.54.png
ORGANIZER;CN="Lavery's":MAILTO:info@laverys.com
END:VEVENT
END:VCALENDAR