BEGIN:VCALENDAR
VERSION:2.0
PRODID:-//Lavery&#039;s - ECPv6.15.20//NONSGML v1.0//EN
CALSCALE:GREGORIAN
METHOD:PUBLISH
X-WR-CALNAME:Lavery&#039;s
X-ORIGINAL-URL:https://laverys.com
X-WR-CALDESC:Events for Lavery&#039;s
REFRESH-INTERVAL;VALUE=DURATION:PT1H
X-Robots-Tag:noindex
X-PUBLISHED-TTL:PT1H
BEGIN:VTIMEZONE
TZID:UTC
BEGIN:STANDARD
TZOFFSETFROM:+0000
TZOFFSETTO:+0000
TZNAME:UTC
DTSTART:20250101T000000
END:STANDARD
END:VTIMEZONE
BEGIN:VEVENT
DTSTART;TZID=UTC:20260314T210000
DTEND;TZID=UTC:20260315T011500
DTSTAMP:20260422T015135
CREATED:20260309T104658Z
LAST-MODIFIED:20260324T165107Z
UID:10004467-1773522000-1773537300@laverys.com
SUMMARY:Resident DJs: Mark Johnston
DESCRIPTION:Mark has been a resident for more than 10 years. One half of the infamous Faux\, Mark has been one of the most influential DJs to grace our decks\, shaping the sound and atmosphere that people now associate with Lavery’s and The Woodworkers.
URL:https://laverys.com/event/resident-djs-mark-johnston-2/2026-03-14/
LOCATION:Lavery’s\, 12-18 Bradbury Place\, Belfast\, Antrim\, BT71RS\, United Kingdom
CATEGORIES:DJ
ATTACH;FMTTYPE=image/jpeg:https://laverys.com/wp-content/uploads/2026/01/Screenshot-2026-01-08-at-16.22.30-e1767889426651.jpg
ORGANIZER;CN="Lavery's":MAILTO:info@laverys.com
END:VEVENT
BEGIN:VEVENT
DTSTART;TZID=UTC:20260314T210000
DTEND;TZID=UTC:20260315T011500
DTSTAMP:20260422T015135
CREATED:20260309T105415Z
LAST-MODIFIED:20260324T152858Z
UID:10004468-1773522000-1773537300@laverys.com
SUMMARY:Resident DJs: Pete Woods
DESCRIPTION:Having spent many years playing at all of the major local night clubs (alongside local hard-hitters and national acts alike)\, holding multiple residencies\, DJing special events and promoting his own shows\, Pete has had a lot of time to develop his sound.
URL:https://laverys.com/event/resident-djs-pete-woods-4/2026-03-14/
LOCATION:Lavery’s\, 12-18 Bradbury Place\, Belfast\, Antrim\, BT71RS\, United Kingdom
CATEGORIES:DJ
ATTACH;FMTTYPE=image/jpeg:https://laverys.com/wp-content/uploads/2024/03/Paddys-Day-2024-2093-e1767884440841.jpg
ORGANIZER;CN="Lavery's":MAILTO:info@laverys.com
END:VEVENT
BEGIN:VEVENT
DTSTART;TZID=UTC:20260314T220000
DTEND;TZID=UTC:20260315T003000
DTSTAMP:20260422T015135
CREATED:20260306T153003Z
LAST-MODIFIED:20260306T153003Z
UID:10004459-1773525600-1773534600@laverys.com
SUMMARY:Lavery's Live: Adh Mor
DESCRIPTION:Adh Mor is truly one of `Northern Ireland’s most dynamic 2 piece bands.\nNot stuck to one genre\, Adh Mor perform a range of songs & tunes with an Irish Trad & Folk kick.
URL:https://laverys.com/event/laverys-live-adh-mor/2026-03-14/
LOCATION:Lavery’s\, 12-18 Bradbury Place\, Belfast\, Antrim\, BT71RS\, United Kingdom
CATEGORIES:Live at Lavery's
ATTACH;FMTTYPE=image/jpeg:https://laverys.com/wp-content/uploads/2026/03/291A4882-Enhanced-NR-copy-4.jpg
ORGANIZER;CN="Lavery's":MAILTO:info@laverys.com
END:VEVENT
BEGIN:VEVENT
DTSTART;TZID=UTC:20260315T190000
DTEND;TZID=UTC:20260315T203000
DTSTAMP:20260422T015135
CREATED:20260106T131451Z
LAST-MODIFIED:20260106T131451Z
UID:10004044-1773601200-1773606600@laverys.com
SUMMARY:Belfast Improv
DESCRIPTION:Improvisation is the art of spontaneously performing comedy and theatre without a script. \n\nImprov shows come in many flavours\, but at Belfast Improv our shows are typically ‘long-form’\, which means that we perform 20 min – 2 hour shows with an overarching narrative or theme.
URL:https://laverys.com/event/belfast-improv-3/2026-03-15/
LOCATION:Lavery’s\, 12-18 Bradbury Place\, Belfast\, Antrim\, BT71RS\, United Kingdom
CATEGORIES:Belfast Improv
ATTACH;FMTTYPE=image/jpeg:https://laverys.com/wp-content/uploads/2026/01/291A0420-Enhanced-NR-copy-2-e1767704772347.jpg
ORGANIZER;CN="Lavery's":MAILTO:info@laverys.com
END:VEVENT
BEGIN:VEVENT
DTSTART;TZID=UTC:20260315T190000
DTEND;TZID=UTC:20260315T210000
DTSTAMP:20260422T015135
CREATED:20260106T134522Z
LAST-MODIFIED:20260215T192227Z
UID:10004056-1773601200-1773608400@laverys.com
SUMMARY:Open Trad: Belfast Session Guide
DESCRIPTION:Belfast’s best traditional music session. Join the Belfast Session Guide open trad sessions every Sunday in our Public Bar.
URL:https://laverys.com/event/belfast-session-guide-12/2026-03-15/
LOCATION:Lavery’s\, 12-18 Bradbury Place\, Belfast\, Antrim\, BT71RS\, United Kingdom
CATEGORIES:Live at Lavery's
ATTACH;FMTTYPE=image/jpeg:https://laverys.com/wp-content/uploads/2026/01/291A4929-Enhanced-NR-copy-e1767707011188.jpg
ORGANIZER;CN="Lavery's":MAILTO:info@laverys.com
END:VEVENT
END:VCALENDAR