BEGIN:VCALENDAR
VERSION:2.0
PRODID:-//Lavery&#039;s - ECPv6.15.18//NONSGML v1.0//EN
CALSCALE:GREGORIAN
METHOD:PUBLISH
X-ORIGINAL-URL:https://laverys.com
X-WR-CALDESC:Events for Lavery&#039;s
REFRESH-INTERVAL;VALUE=DURATION:PT1H
X-Robots-Tag:noindex
X-PUBLISHED-TTL:PT1H
BEGIN:VTIMEZONE
TZID:UTC
BEGIN:STANDARD
TZOFFSETFROM:+0000
TZOFFSETTO:+0000
TZNAME:UTC
DTSTART:20250101T000000
END:STANDARD
END:VTIMEZONE
BEGIN:VEVENT
DTSTART;TZID=UTC:20260326T210000
DTEND;TZID=UTC:20260327T001500
DTSTAMP:20260421T054321
CREATED:20260309T095545Z
LAST-MODIFIED:20260324T153642Z
UID:10004471-1774558800-1774570500@laverys.com
SUMMARY:Resident DJs: Andrew Moore
DESCRIPTION:Andrew Moore co-founded the game-changing collective Plain Sailing\, one of Belfast’s best known club nights. Alongside Peter Gibney\, the duo have been throwing parties in Belfast for the last few years\, inviting a multi-faceted roster of artists for their debuts in the city – including Barker\, D.Tiffany\, Riz La Teef\, LCY & Interplanetary Criminal – whilst honing their craft as two of the city’s most exciting DJ pairings. Now under the alias of Uncle Moe\, you will have seen him playing at AVA Festival\, contributed a mix for Feel My Bicep’s reputable podcast series\, appeared on Dublin Digital Radio & BBC ATL Introducing and last year put out a mix on London record label Lobster Theremin’s respected podcast series. During the pandemic Andrew and Peter transformed Plain Sailing into an online-zine as a way of continuing to support the artists they loved during a time when gigs were not possible. They have since interviewed artists such as Mor Elian\, Kettama\, Cromby\, EMA\, Sputnik One and more\, and have introduced new sounds and listening experiences from Ireland and beyond through their Plain Sailing Debuts track series and Making Waves video series.
URL:https://laverys.com/event/resident-djs-andrew-moore-3/2026-03-26/
LOCATION:Lavery’s\, 12-18 Bradbury Place\, Belfast\, Antrim\, BT71RS\, United Kingdom
CATEGORIES:DJ
ATTACH;FMTTYPE=image/png:https://laverys.com/wp-content/uploads/2026/03/Screenshot-2026-03-09-at-09.53.54.png
ORGANIZER;CN="Lavery's":MAILTO:info@laverys.com
END:VEVENT
BEGIN:VEVENT
DTSTART;TZID=UTC:20260327T203000
DTEND;TZID=UTC:20260327T223000
DTSTAMP:20260421T054321
CREATED:20260324T132928Z
LAST-MODIFIED:20260324T133130Z
UID:10004486-1774643400-1774650600@laverys.com
SUMMARY:Live at Lavery's - Conor Maley
DESCRIPTION:
URL:https://laverys.com/event/live-at-laverys-conor-maley/
LOCATION:Lavery’s\, 12-18 Bradbury Place\, Belfast\, Antrim\, BT71RS\, United Kingdom
CATEGORIES:Live at Lavery's
ATTACH;FMTTYPE=image/jpeg:https://laverys.com/wp-content/uploads/2026/03/ab6761610000e5eb5b93ad34850ad546a659f8b6-2597608800.jpg
ORGANIZER;CN="Lavery's":MAILTO:info@laverys.com
END:VEVENT
BEGIN:VEVENT
DTSTART;TZID=UTC:20260327T203000
DTEND;TZID=UTC:20260327T223000
DTSTAMP:20260421T054321
CREATED:20260324T133357Z
LAST-MODIFIED:20260324T133357Z
UID:10004487-1774643400-1774650600@laverys.com
SUMMARY:Live at Lavery's - It Takes Two
DESCRIPTION:
URL:https://laverys.com/event/live-at-laverys-it-takes-two/
LOCATION:Lavery’s\, 12-18 Bradbury Place\, Belfast\, Antrim\, BT71RS\, United Kingdom
CATEGORIES:Live at Lavery's
ATTACH;FMTTYPE=image/jpeg:https://laverys.com/wp-content/uploads/2026/03/media-1403963777.jpg
ORGANIZER;CN="Lavery's":MAILTO:info@laverys.com
END:VEVENT
BEGIN:VEVENT
DTSTART;TZID=UTC:20260327T210000
DTEND;TZID=UTC:20260328T001500
DTSTAMP:20260421T054321
CREATED:20260309T152530Z
LAST-MODIFIED:20260309T152530Z
UID:10004475-1774645200-1774656900@laverys.com
SUMMARY:Resident DJs: Conleth Forde
DESCRIPTION:The newest addition to our DJ residents\, Conleth comes with a vast amount pf experience playing in all genres. DJ’ing for some time now\, Conleth will satisfy your funk\, groove\, house\, italo and disco needs.
URL:https://laverys.com/event/resident-djs-conleth-forde-2/
LOCATION:Lavery’s\, 12-18 Bradbury Place\, Belfast\, Antrim\, BT71RS\, United Kingdom
CATEGORIES:DJ
ATTACH;FMTTYPE=image/jpeg:https://laverys.com/wp-content/uploads/2026/01/Screenshot-2026-01-08-at-16.32.59-e1767890119292.jpg
ORGANIZER;CN="Lavery's":MAILTO:info@laverys.com
END:VEVENT
BEGIN:VEVENT
DTSTART;TZID=UTC:20260327T210000
DTEND;TZID=UTC:20260328T011500
DTSTAMP:20260421T054321
CREATED:20260309T153353Z
LAST-MODIFIED:20260324T164802Z
UID:10004476-1774645200-1774660500@laverys.com
SUMMARY:Resident DJs: Stevie Dougal
DESCRIPTION:Stevie becomes every venues favourite DJ instantaneously. His sets are high energy and adaptable to any setting.
URL:https://laverys.com/event/resident-djs-stevie-dougal-3/2026-03-27/
LOCATION:Lavery’s\, 12-18 Bradbury Place\, Belfast\, Antrim\, BT71RS\, United Kingdom
CATEGORIES:DJ
ATTACH;FMTTYPE=image/jpeg:https://laverys.com/wp-content/uploads/2026/01/Screenshot-2026-01-08-at-16.14.13-e1767888934162.jpg
ORGANIZER;CN="Lavery's":MAILTO:info@laverys.com
END:VEVENT
END:VCALENDAR