BEGIN:VCALENDAR
VERSION:2.0
PRODID:-//Lavery&#039;s - ECPv6.15.18//NONSGML v1.0//EN
CALSCALE:GREGORIAN
METHOD:PUBLISH
X-ORIGINAL-URL:https://laverys.com
X-WR-CALDESC:Events for Lavery&#039;s
REFRESH-INTERVAL;VALUE=DURATION:PT1H
X-Robots-Tag:noindex
X-PUBLISHED-TTL:PT1H
BEGIN:VTIMEZONE
TZID:UTC
BEGIN:STANDARD
TZOFFSETFROM:+0000
TZOFFSETTO:+0000
TZNAME:UTC
DTSTART:20250101T000000
END:STANDARD
END:VTIMEZONE
BEGIN:VEVENT
DTSTART;TZID=UTC:20260423T210000
DTEND;TZID=UTC:20260424T001500
DTSTAMP:20260420T082148
CREATED:20260323T154120Z
LAST-MODIFIED:20260323T154120Z
UID:10004484-1776978000-1776989700@laverys.com
SUMMARY:Resident DJs: Becca Nicell
DESCRIPTION:Rebecca has developed her own unique sound within our residents. Regardless of genre\, tempo\, style or release date\, Becca will get you moving!
URL:https://laverys.com/event/resident-djs-becca-nicell/2026-04-23/
LOCATION:Lavery’s\, 12-18 Bradbury Place\, Belfast\, Antrim\, BT71RS\, United Kingdom
CATEGORIES:DJ
ATTACH;FMTTYPE=image/jpeg:https://laverys.com/wp-content/uploads/2026/01/Screenshot-2026-01-07-at-12.25.47-e1767790048707.jpg
ORGANIZER;CN="Lavery's":MAILTO:info@laverys.com
END:VEVENT
BEGIN:VEVENT
DTSTART;TZID=UTC:20260424T193000
DTEND;TZID=UTC:20260424T213000
DTSTAMP:20260420T082148
CREATED:20260402T122101Z
LAST-MODIFIED:20260402T122101Z
UID:10004563-1777059000-1777066200@laverys.com
SUMMARY:Live at Lavery's - Take 3
DESCRIPTION:
URL:https://laverys.com/event/live-at-laverys-take-3/
LOCATION:Lavery’s\, 12-18 Bradbury Place\, Belfast\, Antrim\, BT71RS\, United Kingdom
CATEGORIES:Live at Lavery's
ATTACH;FMTTYPE=image/png:https://laverys.com/wp-content/uploads/2026/04/Screenshot-2026-04-02-at-13.17.12.png
ORGANIZER;CN="Lavery's":MAILTO:info@laverys.com
END:VEVENT
BEGIN:VEVENT
DTSTART;TZID=UTC:20260424T210000
DTEND;TZID=UTC:20260425T011500
DTSTAMP:20260420T082148
CREATED:20250526T145404Z
LAST-MODIFIED:20260324T164035Z
UID:10004537-1777064400-1777079700@laverys.com
SUMMARY:Jamie Nevin
DESCRIPTION:Jamie has been one of our longest residing residents\, and for good reason. Member of Belfast low tempo collective The Shrub\, Jamie’s sets are as diverse as any playing in chilled out high energy rooms.
URL:https://laverys.com/event/jamie-nevin-3/2026-04-24/
LOCATION:Lavery’s\, 12-18 Bradbury Place\, Belfast\, Antrim\, BT71RS\, United Kingdom
CATEGORIES:DJ
ATTACH;FMTTYPE=image/jpeg:https://laverys.com/wp-content/uploads/2024/10/IMG_1578-copy-e1748271226841.jpg
ORGANIZER;CN="Lavery's":MAILTO:info@laverys.com
END:VEVENT
BEGIN:VEVENT
DTSTART;TZID=UTC:20260424T210000
DTEND;TZID=UTC:20260425T011500
DTSTAMP:20260420T082148
CREATED:20260309T153353Z
LAST-MODIFIED:20260324T164802Z
UID:10004541-1777064400-1777079700@laverys.com
SUMMARY:Resident DJs: Stevie Dougal
DESCRIPTION:Stevie becomes every venues favourite DJ instantaneously. His sets are high energy and adaptable to any setting.
URL:https://laverys.com/event/resident-djs-stevie-dougal-3/2026-04-24/
LOCATION:Lavery’s\, 12-18 Bradbury Place\, Belfast\, Antrim\, BT71RS\, United Kingdom
CATEGORIES:DJ
ATTACH;FMTTYPE=image/jpeg:https://laverys.com/wp-content/uploads/2026/01/Screenshot-2026-01-08-at-16.14.13-e1767888934162.jpg
ORGANIZER;CN="Lavery's":MAILTO:info@laverys.com
END:VEVENT
BEGIN:VEVENT
DTSTART;TZID=UTC:20260424T220000
DTEND;TZID=UTC:20260425T003000
DTSTAMP:20260420T082148
CREATED:20260327T104912Z
LAST-MODIFIED:20260327T104912Z
UID:10004555-1777068000-1777077000@laverys.com
SUMMARY:Live at Lavery's - The Faders
DESCRIPTION:
URL:https://laverys.com/event/live-at-laverys-the-faders/
LOCATION:Lavery’s\, 12-18 Bradbury Place\, Belfast\, Antrim\, BT71RS\, United Kingdom
CATEGORIES:Live at Lavery's
ATTACH;FMTTYPE=image/png:https://laverys.com/wp-content/uploads/2026/03/Screenshot-2026-03-27-at-10.43.26.png
ORGANIZER;CN="Lavery's":MAILTO:info@laverys.com
END:VEVENT
END:VCALENDAR